BEGIN:VCALENDAR
VERSION:2.0
PRODID:-//Top Step - ECPv6.15.17.1//NONSGML v1.0//EN
CALSCALE:GREGORIAN
METHOD:PUBLISH
X-ORIGINAL-URL:https://topstepllc.com
X-WR-CALDESC:Events for Top Step
REFRESH-INTERVAL;VALUE=DURATION:PT1H
X-Robots-Tag:noindex
X-PUBLISHED-TTL:PT1H
BEGIN:VTIMEZONE
TZID:America/New_York
BEGIN:DAYLIGHT
TZOFFSETFROM:-0500
TZOFFSETTO:-0400
TZNAME:EDT
DTSTART:20200308T070000
END:DAYLIGHT
BEGIN:STANDARD
TZOFFSETFROM:-0400
TZOFFSETTO:-0500
TZNAME:EST
DTSTART:20201101T060000
END:STANDARD
BEGIN:DAYLIGHT
TZOFFSETFROM:-0500
TZOFFSETTO:-0400
TZNAME:EDT
DTSTART:20210314T070000
END:DAYLIGHT
BEGIN:STANDARD
TZOFFSETFROM:-0400
TZOFFSETTO:-0500
TZNAME:EST
DTSTART:20211107T060000
END:STANDARD
BEGIN:DAYLIGHT
TZOFFSETFROM:-0500
TZOFFSETTO:-0400
TZNAME:EDT
DTSTART:20220313T070000
END:DAYLIGHT
BEGIN:STANDARD
TZOFFSETFROM:-0400
TZOFFSETTO:-0500
TZNAME:EST
DTSTART:20221106T060000
END:STANDARD
BEGIN:DAYLIGHT
TZOFFSETFROM:-0500
TZOFFSETTO:-0400
TZNAME:EDT
DTSTART:20230312T070000
END:DAYLIGHT
BEGIN:STANDARD
TZOFFSETFROM:-0400
TZOFFSETTO:-0500
TZNAME:EST
DTSTART:20231105T060000
END:STANDARD
BEGIN:DAYLIGHT
TZOFFSETFROM:-0500
TZOFFSETTO:-0400
TZNAME:EDT
DTSTART:20240310T070000
END:DAYLIGHT
BEGIN:STANDARD
TZOFFSETFROM:-0400
TZOFFSETTO:-0500
TZNAME:EST
DTSTART:20241103T060000
END:STANDARD
END:VTIMEZONE
BEGIN:VEVENT
DTSTART;TZID=America/New_York:20230511T130000
DTEND;TZID=America/New_York:20230511T134500
DTSTAMP:20260422T061735
CREATED:20221121T180956Z
LAST-MODIFIED:20221121T180956Z
UID:27138-1683810000-1683812700@topstepllc.com
SUMMARY:Managing Percent Complete in OpenAir
DESCRIPTION:From managing task completion to revenue recognition\, percent complete is a complex topic with many configuration options. \nIn this webinar\, you will learn how OpenAir: \n\nCalculates task percent complete\nFeatures to manage percent complete\nHow percent complete forecasting is handled both natively and with customizations.\n\nFollowing the presentation\, we will open the lines for a 15-minute live Q&A discussion.
URL:https://topstepllc.com/event/managing-percent-complete-in-openair-2/
LOCATION:Online
CATEGORIES:OpenAir Webinar
END:VEVENT
BEGIN:VEVENT
DTSTART;TZID=America/New_York:20230427T130000
DTEND;TZID=America/New_York:20230427T134500
DTSTAMP:20260422T061735
CREATED:20230228T175524Z
LAST-MODIFIED:20230403T170651Z
UID:27313-1682600400-1682603100@topstepllc.com
SUMMARY:Top Step's Take on the Spring 2023 New Release
DESCRIPTION:In this webinar\, we will be reviewing the latest OpenAir release features and highlighting how they can help your OpenAir system. Some beneficial features include Attachment Drag and Drop\, Licensing\, Project Center Enhancements\, OpenAir Mobile 4.5\, and NetSuite Connector. \nFollowing the presentation\, we will open the lines for a 15-minute live Q&A discussion.
URL:https://topstepllc.com/event/top-steps-take-on-the-spring-2023-new-release/
LOCATION:Online
CATEGORIES:OpenAir Webinar
END:VEVENT
BEGIN:VEVENT
DTSTART;TZID=America/New_York:20230413T130000
DTEND;TZID=America/New_York:20230413T134500
DTSTAMP:20260422T061735
CREATED:20221121T180611Z
LAST-MODIFIED:20221121T181349Z
UID:27136-1681390800-1681393500@topstepllc.com
SUMMARY:Delivery Success with Project Management in OpenAir
DESCRIPTION:In this webinar\, we’ll talk about some project management techniques such as: \n\nPlan vs. actual hours and cost delivery\nPercent complete of work and budget\nOther common tools used by Project Managers to help them deliver successful projects including variations by project type\, size\, and complexity.\n\nFollowing the presentation\, we will open the lines for a 15-minute live Q&A discussion.
URL:https://topstepllc.com/event/delivery-success-with-project-management-in-openair/
LOCATION:Online
CATEGORIES:OpenAir Webinar
END:VEVENT
BEGIN:VEVENT
DTSTART;TZID=America/New_York:20230309T130000
DTEND;TZID=America/New_York:20230309T134500
DTSTAMP:20260422T061735
CREATED:20220906T175222Z
LAST-MODIFIED:20220906T175222Z
UID:27012-1678366800-1678369500@topstepllc.com
SUMMARY:NetSuite OpenAir Best Practices for Timesheets
DESCRIPTION:In this webinar\, we will discuss timesheet features that can ensure data capture is accurate for reporting and analytics. This will include: \n\nAuto-population options\nCommon scripting solutions\nHandling timesheet corrections\n\nFollowing the presentation\, we will open the lines for a 15-minute live Q&A discussion.
URL:https://topstepllc.com/event/netsuite-openair-best-practices-for-timesheets-2/
LOCATION:Online
CATEGORIES:OpenAir Webinar
END:VEVENT
BEGIN:VEVENT
DTSTART;TZID=America/New_York:20230209T130000
DTEND;TZID=America/New_York:20230209T134500
DTSTAMP:20260422T061735
CREATED:20220906T174806Z
LAST-MODIFIED:20220906T174806Z
UID:27010-1675947600-1675950300@topstepllc.com
SUMMARY:Best Practices for Auditing Data in Your Professional Services Automation System
DESCRIPTION:In this webinar\, we will discuss best practices to auditing PSA data. This includes: \n\nHow audits support business processes\nTypes of data to audit\nFrequency and ownership\n\nFollowing the presentation\, we will open the lines for a 15-minute live Q&A discussion.
URL:https://topstepllc.com/event/best-practices-for-auditing-data-in-your-professional-services-automation-system-2/
LOCATION:Online
CATEGORIES:OpenAir Webinar
END:VEVENT
BEGIN:VEVENT
DTSTART;TZID=America/New_York:20230119T130000
DTEND;TZID=America/New_York:20230119T134500
DTSTAMP:20260422T061735
CREATED:20220906T174224Z
LAST-MODIFIED:20221129T170128Z
UID:27008-1674133200-1674135900@topstepllc.com
SUMMARY:OpenAir Invoicing Tips and Tricks
DESCRIPTION:In this webinar\, we will discuss tips and best practices for invoicing in OpenAir. You will learn more about: \n\nInvoice number increments\nExpense groups\nExpense insert layout\nPrefix\, billing codes\n\nFollowing the presentation\, we will open the lines for a 15-minute live Q&A discussion.
URL:https://topstepllc.com/event/openair-invoicing-tips-and-tricks/
LOCATION:Online
CATEGORIES:OpenAir Webinar
END:VEVENT
BEGIN:VEVENT
DTSTART;TZID=America/New_York:20221208T130000
DTEND;TZID=America/New_York:20221208T134500
DTSTAMP:20260422T061735
CREATED:20220607T221341Z
LAST-MODIFIED:20220607T221555Z
UID:26866-1670504400-1670507100@topstepllc.com
SUMMARY:Peeling Back The Layers For Demand Planning In OpenAir
DESCRIPTION:In this webinar\, we will peel back the layers on how to do demand planning in OpenAir to help you support timely\, efficient\, and cost-effective operations. We will cover: \n\nPipeline tracking/reporting – integrating with your CRM\nPipeline resource forecasting – tips and tricks\nReporting on demand planning\n\nFollowing the presentation\, we will open the lines for a 15-minute live Q&A discussion.
URL:https://topstepllc.com/event/peeling-back-the-layers-for-demand-planning-in-openair/
LOCATION:Online
CATEGORIES:OpenAir Webinar
END:VEVENT
BEGIN:VEVENT
DTSTART;TZID=America/New_York:20221110T130000
DTEND;TZID=America/New_York:20221110T134500
DTSTAMP:20260422T061735
CREATED:20220607T220751Z
LAST-MODIFIED:20220607T221656Z
UID:26864-1668085200-1668087900@topstepllc.com
SUMMARY:Tips And Insights For How To Do Capacity Planning In OpenAir
DESCRIPTION:In this webinar\, We will review tips for how to do capacity planning in OpenAir that will include: \n\nCapacity reporting in OpenAir\nHow to capture types of products or services on staff\nAccounting for non-scoped work/time\n\nFollowing the presentation\, we will open the lines for a 15-minute live Q&A discussion.
URL:https://topstepllc.com/event/tips-and-insights-for-how-to-do-capacity-planning-in-openair/
LOCATION:Online
CATEGORIES:OpenAir Webinar
END:VEVENT
BEGIN:VEVENT
DTSTART;TZID=America/New_York:20221020T130000
DTEND;TZID=America/New_York:20221020T134500
DTSTAMP:20260422T061735
CREATED:20220915T154455Z
LAST-MODIFIED:20220915T154455Z
UID:27030-1666270800-1666273500@topstepllc.com
SUMMARY:Top Step's Take On The Fall 2022 New Release
DESCRIPTION:In this webinar\, we will review the latest OpenAir Release features and highlight how they can benefit your OpenAir System. Some features we will review (may be subject to change) include: \n\nOpenAir Projects\nOpenAir Mobile\nOpenAir NetSuite Connector\nGlobal Features\n\nFollowing the presentation\, we will open the lines for a 15-minute live Q&A discussion.
URL:https://topstepllc.com/event/top-steps-take-on-the-fall-2022-new-release/
LOCATION:Online
CATEGORIES:OpenAir Webinar
END:VEVENT
BEGIN:VEVENT
DTSTART;TZID=America/New_York:20221013T130000
DTEND;TZID=America/New_York:20221013T134500
DTSTAMP:20260422T061735
CREATED:20220607T220204Z
LAST-MODIFIED:20220607T220204Z
UID:26862-1665666000-1665668700@topstepllc.com
SUMMARY:OpenAir Advanced Topic: Custom Calculations Tips and Tricks
DESCRIPTION:In this webinar\, you will learn more about custom calculation tips and tricks in OpenAir including: \n\nCustom calculations usage and key features\nGetting to the right end result\nConsideration of report configuration with custom calculations\nTips and Tricks\n\nFollowing the presentation\, we will open the lines for a 15-minute live Q&A discussion.
URL:https://topstepllc.com/event/openair-advanced-topic-custom-calculations-tips-and-tricks/
LOCATION:Online
CATEGORIES:OpenAir Webinar
END:VEVENT
BEGIN:VEVENT
DTSTART;TZID=America/New_York:20220908T130000
DTEND;TZID=America/New_York:20220908T134500
DTSTAMP:20260422T061735
CREATED:20220315T162756Z
LAST-MODIFIED:20220315T162756Z
UID:26731-1662642000-1662644700@topstepllc.com
SUMMARY:OpenAir Advanced Reporting Tips and Techniques
DESCRIPTION:In this webinar\, you will learn some of Top Step’s favorite OpenAir reporting tips and tricks: \n\nHow to review your configuration to support reporting needs\nBest practices for report development\nFeatures to aid in your reporting challenges\nHandling report maintenance challenges\n\nFollowing the presentation\, we will open the lines for a 15-minute live Q&A discussion.
URL:https://topstepllc.com/event/openair-advanced-reporting-tips-and-techniques/
LOCATION:Online
CATEGORIES:OpenAir Webinar
END:VEVENT
BEGIN:VEVENT
DTSTART;TZID=America/New_York:20220811T130000
DTEND;TZID=America/New_York:20220811T134500
DTSTAMP:20260422T061735
CREATED:20220315T162445Z
LAST-MODIFIED:20220315T162445Z
UID:26729-1660222800-1660225500@topstepllc.com
SUMMARY:Tips For How To Get A More Accurate Revenue Forecast In NetSuite OpenAir
DESCRIPTION:In this webinar\, we will discuss: \n\nTips and tricks on how to get a more accurate forecast\nHow to reflect weighted forecast values based on your sales methodology\nForecast resource needs along with financials\n\nFollowing the presentation\, we will open the lines for a 15-minute live Q&A discussion.
URL:https://topstepllc.com/event/tips-for-how-to-get-a-more-accurate-revenue-forecast-in-netsuite-openair/
LOCATION:Online
CATEGORIES:OpenAir Webinar
END:VEVENT
BEGIN:VEVENT
DTSTART;TZID=America/New_York:20220721T130000
DTEND;TZID=America/New_York:20220721T134500
DTSTAMP:20260422T061735
CREATED:20220315T161309Z
LAST-MODIFIED:20220511T172818Z
UID:26726-1658408400-1658411100@topstepllc.com
SUMMARY:Tips and Best Practices for Implementing Project Management Oversight in OpenAir
DESCRIPTION:OpenAir is your tool for keeping your project delivery in line with expectations and processes. In this webinar\, we cover project management oversight features including: \n\nIn-system visuals and standard alerts\nUseful dashboard charts and reports for communication\nNews Feed collaboration solutions\n\nFollowing the presentation\, we will open the lines for a 15-minute live Q&A discussion.
URL:https://topstepllc.com/event/tips-and-best-practices-for-implementing-project-management-oversight-in-openair/
LOCATION:Online
CATEGORIES:OpenAir Webinar
END:VEVENT
BEGIN:VEVENT
DTSTART;TZID=America/New_York:20220609T130000
DTEND;TZID=America/New_York:20220609T134500
DTSTAMP:20260422T061735
CREATED:20211208T220138Z
LAST-MODIFIED:20211208T220223Z
UID:26551-1654779600-1654782300@topstepllc.com
SUMMARY:OpenAir Techniques for Forecasting Utilization and Reporting
DESCRIPTION:In this webinar\, we will share techniques for resource management in OpenAir that support utilization forecasting and reporting including: \n\nTips and tricks on adjusting utilization equations to match your company definition\nCapacity planning and forecasting resource needs\nBest-fit resource matches searching by key values\n\nFollowing the presentation\, we will open the lines for a 15-minute live Q&A discussion.
URL:https://topstepllc.com/event/openair-techniques-for-forecasting-utilization-and-reporting/
LOCATION:Online
CATEGORIES:OpenAir Webinar
END:VEVENT
BEGIN:VEVENT
DTSTART;TZID=America/New_York:20220512T130000
DTEND;TZID=America/New_York:20220512T134500
DTSTAMP:20260422T061735
CREATED:20211208T215735Z
LAST-MODIFIED:20211208T215735Z
UID:26549-1652360400-1652363100@topstepllc.com
SUMMARY:Subcontractor Management Techniques in OpenAir
DESCRIPTION:In this webinar\, we discuss how OpenAir can help you manage your subcontractors more efficiently. We will cover the following topics: \n\nHow OpenAir can help you manage your contractors more efficiently\nHow to easily document contractor time\nCost tracking options and how to handle a mixture of costing approaches\nHow to perform reports on contractors in OpenAir\n\nFollowing the presentation\, we will open the lines for a 15-minute live Q&A discussion.
URL:https://topstepllc.com/event/subcontractor-management-techniques-in-openair/
LOCATION:Online
CATEGORIES:OpenAir Webinar
END:VEVENT
BEGIN:VEVENT
DTSTART;TZID=America/New_York:20220421T130000
DTEND;TZID=America/New_York:20220421T134500
DTSTAMP:20260422T061735
CREATED:20220315T160600Z
LAST-MODIFIED:20220315T161507Z
UID:26724-1650546000-1650548700@topstepllc.com
SUMMARY:Top Step's Take on the Spring 2022 New Release
DESCRIPTION:In this webinar\, we will be reviewing the latest OpenAir release features and highlighting how they can help your OpenAir System. This will include: \n\nOpenAir Projects\nOpenAir NetSuite Connector\nBusiness Intelligence Connector\nOpenAir Mobile\n\nFollowing the presentation\, we will open the lines for a 15-minute live Q&A discussion.
URL:https://topstepllc.com/event/top-steps-take-on-the-spring-2022-new-release/
LOCATION:Online
CATEGORIES:OpenAir Webinar
END:VEVENT
BEGIN:VEVENT
DTSTART;TZID=America/New_York:20220407T130000
DTEND;TZID=America/New_York:20220407T134500
DTSTAMP:20260422T061735
CREATED:20211208T215149Z
LAST-MODIFIED:20220324T174633Z
UID:26547-1649336400-1649339100@topstepllc.com
SUMMARY:Skill Profiles and Scheduling Techniques in OpenAir
DESCRIPTION:In this webinar\, you will learn more about using skill profiles and scheduling techniques in OpenAir including: \n\nCreating and managing skill profiles\nIncorporating skill profiles into your resource management process\nMeasuring and forecasting capacity vs. demand\nTracking plan vs. actual for project delivery success\n\nFollowing the presentation\, we will open the lines for a 15-minute live Q&A discussion.
URL:https://topstepllc.com/event/skill-profiles-and-scheduling-techniques-in-openair/
LOCATION:Online
CATEGORIES:OpenAir Webinar
END:VEVENT
BEGIN:VEVENT
DTSTART;TZID=America/New_York:20220310T130000
DTEND;TZID=America/New_York:20220310T134500
DTSTAMP:20260422T061735
CREATED:20211005T162622Z
LAST-MODIFIED:20211005T162622Z
UID:26408-1646917200-1646919900@topstepllc.com
SUMMARY:NetSuite OpenAir Best Practices for Timesheets
DESCRIPTION:March 10 \, 2022 @ 1:00 pm ET\nIn this webinar\, we will share best practices and tips for timesheets in NetSuite OpenAir. We will discuss: \n\nAdvanced features such as time entries tab and timesheet customization\nWorkflow processes and time approvals\nAdjusting timesheets data view and lookup controls\n\nFollowing the presentation\, we will open the lines for a 15-minute live Q&A discussion. \nREGISTER NOW
URL:https://topstepllc.com/event/netsuite-openair-best-practices-for-timesheets/
LOCATION:Online
CATEGORIES:OpenAir Webinar
END:VEVENT
BEGIN:VEVENT
DTSTART;TZID=America/New_York:20220210T130000
DTEND;TZID=America/New_York:20220210T134500
DTSTAMP:20260422T061735
CREATED:20211005T161722Z
LAST-MODIFIED:20211005T161722Z
UID:26406-1644498000-1644500700@topstepllc.com
SUMMARY:OpenAir Advanced Scripting Tips & Techniques
DESCRIPTION:February 10 \, 2022 @ 1:00 pm ET\nOpenAir scripting has been around for many years\, yet few have taken advantage of this powerful tool. It is an effective way to perform behind the scenes data manipulations and automation. In this webinar\, we will share common scripting scenarios and tips highlighting: \n\nControlling form behavior with Form Permissions\nAdvances in Form Permissions logic\nHow Scripting can be incorporated to extend system validation logic and data processing\nDetermining when to use Scripting\, Form Permissions\, and more\n\nFollowing the presentation\, we will open the lines for a 15-minute live Q&A discussion. \nREGISTER NOW
URL:https://topstepllc.com/event/openair-advanced-scripting-tips-techniques/
LOCATION:Online
CATEGORIES:OpenAir Webinar
END:VEVENT
BEGIN:VEVENT
DTSTART;TZID=America/New_York:20220113T130000
DTEND;TZID=America/New_York:20220113T134500
DTSTAMP:20260422T061735
CREATED:20211005T160542Z
LAST-MODIFIED:20211005T160729Z
UID:26401-1642078800-1642081500@topstepllc.com
SUMMARY:Are You Benefiting from the Project Center in OpenAir?
DESCRIPTION:January 13 \, 2022 @ 1:00 pm ET\nThe Project Center is a newer feature\, that allows users to edit tasks\, milestones\, phases and bookings from a single editable list view. Since no forms are required for editing these elements\, making updates is quicker and easier. In this webinar\, we will demonstrate key features such as: \n\nProject Task Management\nProject Booking Management\nTips and tricks using this feature\n\nFollowing the presentation\, we will open the lines for a 15-minute live Q&A discussion. \n  \nREGISTER NOW
URL:https://topstepllc.com/event/are-you-benefiting-from-the-project-center-in-openair/
LOCATION:Online
CATEGORIES:OpenAir Webinar
END:VEVENT
BEGIN:VEVENT
DTSTART;TZID=America/New_York:20211209T130000
DTEND;TZID=America/New_York:20211209T134500
DTSTAMP:20260422T061735
CREATED:20210621T190257Z
LAST-MODIFIED:20210727T154608Z
UID:25582-1639054800-1639057500@topstepllc.com
SUMMARY:5 OpenAir Rarely Used Features You Will Benefit From
DESCRIPTION:December 9 \, 2021 @ 1:00 pm ET\nIn this webinar\, we will share five rarely used OpenAir features and how each feature can benefit you. \nFollowing the presentation\, we will open the lines for a 15-minute live Q&A discussion. \nREGISTER NOW
URL:https://topstepllc.com/event/5-openair-rarely-used-features-you-will-benefit-from-2/
LOCATION:Online
CATEGORIES:OpenAir Webinar
END:VEVENT
BEGIN:VEVENT
DTSTART;TZID=America/New_York:20211111T130000
DTEND;TZID=America/New_York:20211111T134500
DTSTAMP:20260422T061735
CREATED:20210621T185638Z
LAST-MODIFIED:20210727T154625Z
UID:25580-1636635600-1636638300@topstepllc.com
SUMMARY:Best Practices for Auditing Data in Your Professional Services Automation System
DESCRIPTION:November 11 \, 2021 @ 1:00 pm ET\nIn this webinar\, we will discuss best practices for auditing PSA data. This will include: \n\nHow audits support business processes\nTypes of data to audit\nFrequency and ownership\n\nFollowing the presentation\, we will open the lines for a 15-minute live Q&A discussion. \nREGISTER NOW
URL:https://topstepllc.com/event/best-practices-for-auditing-data-in-your-professional-services-automation-system/
LOCATION:Online
CATEGORIES:OpenAir Webinar
END:VEVENT
BEGIN:VEVENT
DTSTART;TZID=America/New_York:20211028T130000
DTEND;TZID=America/New_York:20211028T134500
DTSTAMP:20260422T061735
CREATED:20210910T143829Z
LAST-MODIFIED:20210910T143829Z
UID:26346-1635426000-1635428700@topstepllc.com
SUMMARY:Top Step's Take On The Fall 2021 New Release
DESCRIPTION:October 28 \, 2021 @ 1:00 pm ET\nIn this webinar\, we will review the latest OpenAir Release features and highlight how they can benefit your OpenAir System. Some features we will review (subject to change) include: \n\nOpenAir Mobile\nOpenAir NetSuite Connector\nOpenAir Projects\nOpenAir User Experience\n\nFollowing the presentation\, we will open the lines for a 15-minute live Q&A discussion. \nREGISTER NOW
URL:https://topstepllc.com/event/top-steps-take-on-the-fall-2021-new-release/
LOCATION:Online
CATEGORIES:OpenAir Webinar
END:VEVENT
BEGIN:VEVENT
DTSTART;TZID=America/New_York:20211014T130000
DTEND;TZID=America/New_York:20211014T134500
DTSTAMP:20260422T061735
CREATED:20210621T184920Z
LAST-MODIFIED:20210727T154732Z
UID:25578-1634216400-1634219100@topstepllc.com
SUMMARY:Connecting OpenAir Report Data To Your Other Core Systems with OpenAir Business Intelligence Connector
DESCRIPTION:October 14 \, 2021 @ 1:00 pm ET\nThe OpenAir Business Intelligence Connector gives you access to OpenAir from existing reporting\, business intelligence\, workflow\, and integration applications. The connector allows you to access OpenAir data without the need to write code. \nIn this 30 minute webinar\, you will learn the benefits of connecting OpenAir report data with other systems how this can be achieved. \nFollowing the presentation\, we will open the lines for a 15-minute live Q&A discussion. \nREGISTER NOW
URL:https://topstepllc.com/event/connecting-openair-report-data-to-your-other-core-systems-with-openair-business-intelligence-connector/
LOCATION:Online
CATEGORIES:OpenAir Webinar
END:VEVENT
BEGIN:VEVENT
DTSTART;TZID=America/New_York:20210909T130000
DTEND;TZID=America/New_York:20210909T134500
DTSTAMP:20260422T061735
CREATED:20210316T184438Z
LAST-MODIFIED:20210316T184438Z
UID:24236-1631192400-1631195100@topstepllc.com
SUMMARY:Managing Percent Complete in OpenAir
DESCRIPTION:September 9\, 2021 @ 1:00 pm ET\nFrom managing task completion to revenue recognition\, percent complete is a complex topic with many configuration options. \nIn this webinar\, you will learn how OpenAir: \n\nCalculates task percent complete\nFeatures to manage percent complete\nHow percent complete forecasting is handled both natively and with customizations.\n\nFollowing the presentation\, we will open the lines for a 15-minute live Q&A discussion. \nREGISTER NOW
URL:https://topstepllc.com/event/managing-percent-complete-in-openair/
LOCATION:Online
CATEGORIES:OpenAir Webinar
END:VEVENT
BEGIN:VEVENT
DTSTART;TZID=America/New_York:20210812T130000
DTEND;TZID=America/New_York:20210812T134500
DTSTAMP:20260422T061735
CREATED:20210316T183308Z
LAST-MODIFIED:20210722T153957Z
UID:24234-1628773200-1628775900@topstepllc.com
SUMMARY:Best Practices for Using Tags in OpenAir
DESCRIPTION:August 12\, 2021 @ 1:00 pm ET\nTagging data in OpenAir can be a powerful tool. In this webinar\, we will review tips\, tricks and how to use tags effectively. We will discuss: \n\nHow best to tag key objects for metrics\nTagging in custom calculations\nPros and cons of using tags as filters\n\nFollowing the presentation\, we will open the lines for a 15-minute live Q&A discussion. \nREGISTER NOW
URL:https://topstepllc.com/event/best-practices-for-using-tags-in-openair/
LOCATION:Online
CATEGORIES:OpenAir Webinar
END:VEVENT
BEGIN:VEVENT
DTSTART;TZID=America/New_York:20210708T130000
DTEND;TZID=America/New_York:20210708T134500
DTSTAMP:20260422T061735
CREATED:20210316T181241Z
LAST-MODIFIED:20210316T181241Z
UID:24232-1625749200-1625751900@topstepllc.com
SUMMARY:OpenAir Resource Management Model Comparisons
DESCRIPTION:July 8\, 2021 @ 1:00 pm ET\nResource Management is something that every Professional Services organization has to figure out. In this webinar\, we will talk about different ways to tackle Resource Management and how to determine what is best for you. \nWe will discuss: \n\nResource Management Approaches\nFunctionality Models\nPros & Cons of each model\nOther Key Features\n\nFollowing the presentation\, we will open the lines for a 15-minute live Q&A\ndiscussion. \nREGISTER NOW
URL:https://topstepllc.com/event/openair-resource-management-model-comparisons/
LOCATION:Online
CATEGORIES:OpenAir Webinar
END:VEVENT
BEGIN:VEVENT
DTSTART;TZID=America/New_York:20210610T130000
DTEND;TZID=America/New_York:20210610T134500
DTSTAMP:20260422T061735
CREATED:20201215T181115Z
LAST-MODIFIED:20210331T200719Z
UID:23786-1623330000-1623332700@topstepllc.com
SUMMARY:Scheduling Techniques & Bench Management in OpenAir
DESCRIPTION:June 10 \, 2021 @ 1:00 pm ET\nIn this session you will learn how to better identify talent to fill necessary roles that are critical for executing your business strategy. \n\nHow to define critical roles and assign tasks in OpenAir\nHow to schedule resource effort more efficiently\nHow to achieve organizational objectives during times of slow growth\n\nFollowing the presentation\, we will open the lines for a 15-minute live Q&A discussion. \nREGISTER NOW
URL:https://topstepllc.com/event/scheduling-techniques-bench-management-in-openair/
LOCATION:Online
CATEGORIES:OpenAir Webinar
END:VEVENT
BEGIN:VEVENT
DTSTART;TZID=America/New_York:20210513T130000
DTEND;TZID=America/New_York:20210513T134500
DTSTAMP:20260422T061735
CREATED:20201215T180206Z
LAST-MODIFIED:20210426T162950Z
UID:23784-1620910800-1620913500@topstepllc.com
SUMMARY:Project Budget Management\, Earned Value Management\, and Reports
DESCRIPTION:May 13\, 2021 @ 1:00 pm ET\nIn this webinar we will discuss and demonstrate in NetSuite OpenAir: \n\nMethods for budget management from simple to advanced\nAligning effort with contract budgets\nBaselines and actual vs. plan reports.\n\nFollowing the presentation\, we will open the lines for a 15-minute live Q&A discussion. \nREGISTER NOW
URL:https://topstepllc.com/event/project-budget-management-earned-value-management-and-reports/
LOCATION:Online
CATEGORIES:OpenAir Webinar
END:VEVENT
BEGIN:VEVENT
DTSTART;TZID=America/New_York:20210422T130000
DTEND;TZID=America/New_York:20210422T134500
DTSTAMP:20260422T061735
CREATED:20210316T175905Z
LAST-MODIFIED:20210316T181319Z
UID:24230-1619096400-1619099100@topstepllc.com
SUMMARY:Top Step's Take On The Spring 2021 Release
DESCRIPTION:April 22\, 2021 @ 1:00 pm ET\nIn this webinar\, we will be reviewing the latest OpenAir release features and highlighting how they can help your OpenAir System. \nFollowing the presentation\, we will open the lines for a 15-minute live Q&A discussion. \nREGISTER NOW
URL:https://topstepllc.com/event/top-steps-take-on-the-spring-2021-release/
LOCATION:Online
CATEGORIES:OpenAir Webinar
END:VEVENT
END:VCALENDAR