BEGIN:VCALENDAR
VERSION:2.0
PRODID:-//Top Step - ECPv6.15.17.1//NONSGML v1.0//EN
CALSCALE:GREGORIAN
METHOD:PUBLISH
X-WR-CALNAME:Top Step
X-ORIGINAL-URL:https://topstepllc.com
X-WR-CALDESC:Events for Top Step
REFRESH-INTERVAL;VALUE=DURATION:PT1H
X-Robots-Tag:noindex
X-PUBLISHED-TTL:PT1H
BEGIN:VTIMEZONE
TZID:America/New_York
BEGIN:DAYLIGHT
TZOFFSETFROM:-0500
TZOFFSETTO:-0400
TZNAME:EDT
DTSTART:20140309T070000
END:DAYLIGHT
BEGIN:STANDARD
TZOFFSETFROM:-0400
TZOFFSETTO:-0500
TZNAME:EST
DTSTART:20141102T060000
END:STANDARD
BEGIN:DAYLIGHT
TZOFFSETFROM:-0500
TZOFFSETTO:-0400
TZNAME:EDT
DTSTART:20150308T070000
END:DAYLIGHT
BEGIN:STANDARD
TZOFFSETFROM:-0400
TZOFFSETTO:-0500
TZNAME:EST
DTSTART:20151101T060000
END:STANDARD
BEGIN:DAYLIGHT
TZOFFSETFROM:-0500
TZOFFSETTO:-0400
TZNAME:EDT
DTSTART:20160313T070000
END:DAYLIGHT
BEGIN:STANDARD
TZOFFSETFROM:-0400
TZOFFSETTO:-0500
TZNAME:EST
DTSTART:20161106T060000
END:STANDARD
END:VTIMEZONE
BEGIN:VEVENT
DTSTART;TZID=America/New_York:20151119T130000
DTEND;TZID=America/New_York:20151119T140000
DTSTAMP:20260424T195051
CREATED:20150724T141009Z
LAST-MODIFIED:20210426T160931Z
UID:10770-1447938000-1447941600@topstepllc.com
SUMMARY:OpenAir Expert Webinar Series: Subcontractor Handling
DESCRIPTION:Date: Thursday\, Nov 19\, 2015\nTime: 1:00-2:00pm EST \nIn this session you will learn more about: \n\nCost tracking options within OpenAir (Pros and Cons)\nHow to handle a mixture of approaches for costing\nHow to handle impact on resource management\nValuable metrics to aid in staffing decisions for subcontractor needs\n\nREGISTER NOW!
URL:https://topstepllc.com/event/openair-expert-webinar-series-subcontractor-handling-2/
LOCATION:IL
CATEGORIES:OpenAir,OpenAir Webinar
END:VEVENT
BEGIN:VEVENT
DTSTART;TZID=America/New_York:20151113T110000
DTEND;TZID=America/New_York:20151113T140000
DTSTAMP:20260424T195051
CREATED:20150724T142229Z
LAST-MODIFIED:20210226T175901Z
UID:10781-1447412400-1447423200@topstepllc.com
SUMMARY:Kansas City OpenAir User Group
DESCRIPTION:Date: Friday\, November 13\, 2015\nTime: 11am-2pm (CST)\nFee: $0\nLunch will be served during our meeting. \nCome join us for an interactive meeting to learn more about usage of NetSuite OpenAir! \nThese meetings are a great place to share best practices\, learn tips and tricks\, and network with fellow NetSuite OpenAir users. Space is limited for each session\, so sign up today and reserve your spot! \nSession Topic:\nBest Practices Presentation\nOpen Discussion and Best Practices sharing \nLocation:\niModules Software\n5101 College Blvd\nLeawood\, KS 66211 \nREGISTER NOW!
URL:https://topstepllc.com/event/kansas-city-openair-user-group-2/
LOCATION:iModules Software\, 5101 College Blvd\, Leawood\, KS\,  66211 \, United States
CATEGORIES:OpenAir,OpenAir User Group
END:VEVENT
BEGIN:VEVENT
DTSTART;TZID=America/New_York:20151106T110000
DTEND;TZID=America/New_York:20151106T140000
DTSTAMP:20260424T195051
CREATED:20150724T142138Z
LAST-MODIFIED:20150724T142138Z
UID:9200-1446807600-1446818400@topstepllc.com
SUMMARY:San Francisco OpenAir User Group
DESCRIPTION:Date: Friday\, November 6\, 2015\nTime: 11am-2pm (MST)\nFee: $0\nLunch will be served during our meeting. \nCome join us for an interactive meeting to learn more about usage of NetSuite OpenAir! \nThese meetings are a great place to share best practices\, learn tips and tricks\, and network with fellow NetSuite OpenAir users.  Space is limited for each session\, so sign up today and reserve your spot! \nSession Topic:\nBest Practices Presentation\nOpen Discussion and Best Practices sharing \nLocation:\nProphet\n1 Bush 7th Floor\nConference Room: Play Studio\nSan Francisco\, CA  94104\n\nREGISTER NOW!
URL:https://topstepllc.com/event/san-francisco-openair-user-group/
LOCATION:Prophet\, 1 Bush\, San Francisco\, CA\,  94104 \, United States
CATEGORIES:OpenAir,OpenAir User Group
END:VEVENT
BEGIN:VEVENT
DTSTART;TZID=America/New_York:20151106T110000
DTEND;TZID=America/New_York:20151106T140000
DTSTAMP:20260424T195051
CREATED:20150724T142138Z
LAST-MODIFIED:20210426T170336Z
UID:10780-1446807600-1446818400@topstepllc.com
SUMMARY:San Francisco OpenAir User Group
DESCRIPTION:Date: Friday\, November 6\, 2015\nTime: 11am-2pm (MST)\nFee: $0\nLunch will be served during our meeting. \nCome join us for an interactive meeting to learn more about usage of NetSuite OpenAir! \nThese meetings are a great place to share best practices\, learn tips and tricks\, and network with fellow NetSuite OpenAir users. Space is limited for each session\, so sign up today and reserve your spot! \nSession Topic:\nBest Practices Presentation\nOpen Discussion and Best Practices sharing \nLocation:\nProphet\n1 Bush 7th Floor\nConference Room: Play Studio\nSan Francisco\, CA 94104 \nREGISTER NOW!
URL:https://topstepllc.com/event/san-francisco-openair-user-group-3/
LOCATION:Prophet\, 1 Bush\, San Francisco\, CA\,  94104 \, United States
CATEGORIES:OpenAir,OpenAir User Group
END:VEVENT
BEGIN:VEVENT
DTSTART;TZID=America/New_York:20151015T130000
DTEND;TZID=America/New_York:20151015T140000
DTSTAMP:20260424T195051
CREATED:20150724T140910Z
LAST-MODIFIED:20150724T140910Z
UID:9190-1444914000-1444917600@topstepllc.com
SUMMARY:OpenAir Expert Webinar Series: Skill Database - Tracking Skill Sets\, Product Knowledge\, Industry Knowledge
DESCRIPTION:Date: Thursday\, Oct 15\, 2015\nTime: 1:00-2:00pm EDT \nIn this interactive webinar you will learn more about using skill profiles in OpenAir including: \n\nCreating and managing skill profiles\nIncorporating skill profiles into your resource management process\nOther uses for skill profile elements\nBest practice tips\n\nREGISTER NOW!
URL:https://topstepllc.com/event/openair-expert-webinar-series-skill-database-tracking-skill-sets-product-knowledge-industry-knowledge/
LOCATION:IL
CATEGORIES:OpenAir,OpenAir Webinar
END:VEVENT
BEGIN:VEVENT
DTSTART;TZID=America/New_York:20151015T130000
DTEND;TZID=America/New_York:20151015T140000
DTSTAMP:20260424T195051
CREATED:20150724T140910Z
LAST-MODIFIED:20150724T140910Z
UID:10769-1444914000-1444917600@topstepllc.com
SUMMARY:OpenAir Expert Webinar Series: Skill Database - Tracking Skill Sets\, Product Knowledge\, Industry Knowledge
DESCRIPTION:Date: Thursday\, Oct 15\, 2015\nTime: 1:00-2:00pm EDT \nIn this interactive webinar you will learn more about using skill profiles in OpenAir including: \n\nCreating and managing skill profiles\nIncorporating skill profiles into your resource management process\nOther uses for skill profile elements\nBest practice tips\n\nREGISTER NOW!
URL:https://topstepllc.com/event/openair-expert-webinar-series-skill-database-tracking-skill-sets-product-knowledge-industry-knowledge-2/
LOCATION:IL
CATEGORIES:OpenAir,OpenAir Webinar
END:VEVENT
BEGIN:VEVENT
DTSTART;TZID=America/New_York:20151009T110000
DTEND;TZID=America/New_York:20151009T140000
DTSTAMP:20260424T195051
CREATED:20150724T142012Z
LAST-MODIFIED:20150724T142012Z
UID:9198-1444388400-1444399200@topstepllc.com
SUMMARY:Chicago OpenAir User Group
DESCRIPTION:Date: Friday\, October 9\, 2015\nTime: 11am-2pm (CDT)\nFee: $0\nLunch will be served during our meeting. \nCome join us for an interactive meeting to learn more about usage of NetSuite OpenAir! \nThese meetings are a great place to share best practices\, learn tips and tricks\, and network with fellow NetSuite OpenAir users.  Space is limited for each session\, so sign up today and reserve your spot! \nSession Topic:\nBest Practices Presentation\nOpen Discussion and Best Practices sharing \nLocation:\nRightpoint\n29 North Wacker Drive\n4th Floor\nChicago\, Illinois 60606\n\nREGISTER NOW!
URL:https://topstepllc.com/event/chicago-openair-user-group/
LOCATION:Rightpoint\, 29 North Wacker Drive\, 4th Floor\, Chicago\, IL\,  60606 \, United States
CATEGORIES:OpenAir,OpenAir User Group
END:VEVENT
BEGIN:VEVENT
DTSTART;TZID=America/New_York:20151009T110000
DTEND;TZID=America/New_York:20151009T140000
DTSTAMP:20260424T195051
CREATED:20150724T142012Z
LAST-MODIFIED:20150724T142012Z
UID:10779-1444388400-1444399200@topstepllc.com
SUMMARY:Chicago OpenAir User Group
DESCRIPTION:Date: Friday\, October 9\, 2015\nTime: 11am-2pm (CDT)\nFee: $0\nLunch will be served during our meeting. \nCome join us for an interactive meeting to learn more about usage of NetSuite OpenAir! \nThese meetings are a great place to share best practices\, learn tips and tricks\, and network with fellow NetSuite OpenAir users.  Space is limited for each session\, so sign up today and reserve your spot! \nSession Topic:\nBest Practices Presentation\nOpen Discussion and Best Practices sharing \nLocation:\nRightpoint\n29 North Wacker Drive\n4th Floor\nChicago\, Illinois 60606\n\nREGISTER NOW!
URL:https://topstepllc.com/event/chicago-openair-user-group-3/
LOCATION:Rightpoint\, 29 North Wacker Drive\, 4th Floor\, Chicago\, IL\,  60606 \, United States
CATEGORIES:OpenAir,OpenAir User Group
END:VEVENT
END:VCALENDAR