BEGIN:VCALENDAR
VERSION:2.0
PRODID:-//Top Step - ECPv6.15.17.1//NONSGML v1.0//EN
CALSCALE:GREGORIAN
METHOD:PUBLISH
X-WR-CALNAME:Top Step
X-ORIGINAL-URL:https://topstepllc.com
X-WR-CALDESC:Events for Top Step
REFRESH-INTERVAL;VALUE=DURATION:PT1H
X-Robots-Tag:noindex
X-PUBLISHED-TTL:PT1H
BEGIN:VTIMEZONE
TZID:America/New_York
BEGIN:DAYLIGHT
TZOFFSETFROM:-0500
TZOFFSETTO:-0400
TZNAME:EDT
DTSTART:20180311T070000
END:DAYLIGHT
BEGIN:STANDARD
TZOFFSETFROM:-0400
TZOFFSETTO:-0500
TZNAME:EST
DTSTART:20181104T060000
END:STANDARD
BEGIN:DAYLIGHT
TZOFFSETFROM:-0500
TZOFFSETTO:-0400
TZNAME:EDT
DTSTART:20190310T070000
END:DAYLIGHT
BEGIN:STANDARD
TZOFFSETFROM:-0400
TZOFFSETTO:-0500
TZNAME:EST
DTSTART:20191103T060000
END:STANDARD
BEGIN:DAYLIGHT
TZOFFSETFROM:-0500
TZOFFSETTO:-0400
TZNAME:EDT
DTSTART:20200308T070000
END:DAYLIGHT
BEGIN:STANDARD
TZOFFSETFROM:-0400
TZOFFSETTO:-0500
TZNAME:EST
DTSTART:20201101T060000
END:STANDARD
BEGIN:DAYLIGHT
TZOFFSETFROM:-0500
TZOFFSETTO:-0400
TZNAME:EDT
DTSTART:20210314T070000
END:DAYLIGHT
BEGIN:STANDARD
TZOFFSETFROM:-0400
TZOFFSETTO:-0500
TZNAME:EST
DTSTART:20211107T060000
END:STANDARD
BEGIN:DAYLIGHT
TZOFFSETFROM:-0500
TZOFFSETTO:-0400
TZNAME:EDT
DTSTART:20220313T070000
END:DAYLIGHT
BEGIN:STANDARD
TZOFFSETFROM:-0400
TZOFFSETTO:-0500
TZNAME:EST
DTSTART:20221106T060000
END:STANDARD
END:VTIMEZONE
BEGIN:VTIMEZONE
TZID:America/Chicago
BEGIN:DAYLIGHT
TZOFFSETFROM:-0600
TZOFFSETTO:-0500
TZNAME:CDT
DTSTART:20190310T080000
END:DAYLIGHT
BEGIN:STANDARD
TZOFFSETFROM:-0500
TZOFFSETTO:-0600
TZNAME:CST
DTSTART:20191103T070000
END:STANDARD
BEGIN:DAYLIGHT
TZOFFSETFROM:-0600
TZOFFSETTO:-0500
TZNAME:CDT
DTSTART:20200308T080000
END:DAYLIGHT
BEGIN:STANDARD
TZOFFSETFROM:-0500
TZOFFSETTO:-0600
TZNAME:CST
DTSTART:20201101T070000
END:STANDARD
BEGIN:DAYLIGHT
TZOFFSETFROM:-0600
TZOFFSETTO:-0500
TZNAME:CDT
DTSTART:20210314T080000
END:DAYLIGHT
BEGIN:STANDARD
TZOFFSETFROM:-0500
TZOFFSETTO:-0600
TZNAME:CST
DTSTART:20211107T070000
END:STANDARD
END:VTIMEZONE
BEGIN:VEVENT
DTSTART;TZID=America/New_York:20210408T130000
DTEND;TZID=America/New_York:20210408T134500
DTSTAMP:20260424T040859
CREATED:20201215T172820Z
LAST-MODIFIED:20210302T194830Z
UID:23782-1617886800-1617889500@topstepllc.com
SUMMARY:How to Implement a Project Management Oversight in OpenAir
DESCRIPTION:April 8\, 2021 @ 1:00 pm ET\nProject delivery is the focus of your organization so OpenAir should be the tool that helps keep that focus in line with expectations and process. In this webinar you will learn: \n\nHow to establish templates\nDefine permissions and controls\nHow to set up alerts\, notifications\, and leverage project status options.\n\nFollowing the presentation\, we will open the lines for a 15-minute \nREGISTER NOW
URL:https://topstepllc.com/event/how-to-implement-a-project-management-oversight-in-openair/
LOCATION:Online
CATEGORIES:OpenAir Webinar
END:VEVENT
BEGIN:VEVENT
DTSTART;TZID=America/New_York:20210311T130000
DTEND;TZID=America/New_York:20210311T134500
DTSTAMP:20260424T040859
CREATED:20200929T170945Z
LAST-MODIFIED:20200929T205836Z
UID:23416-1615467600-1615470300@topstepllc.com
SUMMARY:OpenAir Invoicing Tip and Tricks
DESCRIPTION:March 11\, 2021 @ 1:00 pm ET\nIn this recorded webinar\, we will discuss tips and best practices for invoicing in OpenAir. You will learn more about: \n\nInvoice number increments\nExpense groups\nExpense insert layout\nPrefix\, billing codes\n\nFollowing the presentation\, we will open the lines for a 15-minute live Q&A discussion. \nREGISTER NOW
URL:https://topstepllc.com/event/financial-management-reporting-metrics-netsuite-openair-3/
LOCATION:Online
CATEGORIES:OpenAir Webinar
END:VEVENT
BEGIN:VEVENT
DTSTART;TZID=America/New_York:20210211T130000
DTEND;TZID=America/New_York:20210211T134500
DTSTAMP:20260424T040859
CREATED:20200929T165836Z
LAST-MODIFIED:20210330T125316Z
UID:23412-1613048400-1613051100@topstepllc.com
SUMMARY:Cost Tracking Approaches with NetSuite OpenAir
DESCRIPTION:February 11\, 2021 @ 1:00 pm ET\nLabor costs are an important measure in OpenAir\, contributing to a number of metrics and reports. \nIn this webinar\, we will take a deep dive into delivery effort costing approaches using NetSuite OpenAir including: \n\nUser level cost tracking\nCost transfers between departments/regions with considerations for at cost\, standard rates\, or mark-ups\nAdjusting cost to payroll hours for more accurate margin reporting\nHandling variable rate subcontractors\n\nFollowing the presentation\, we will open the lines for a 15-minute live Q&A discussion. \nREGISTER NOW
URL:https://topstepllc.com/event/cost-tracking-approaches-netsuite-openair-2/
LOCATION:Online
CATEGORIES:OpenAir Webinar
END:VEVENT
BEGIN:VEVENT
DTSTART;TZID=America/New_York:20210114T130000
DTEND;TZID=America/New_York:20210114T134500
DTSTAMP:20260424T040859
CREATED:20200929T165155Z
LAST-MODIFIED:20210330T130143Z
UID:23410-1610629200-1610631900@topstepllc.com
SUMMARY:Deferred/WIP Revenue Management in NetSuite OpenAir
DESCRIPTION:January 14\, 2021 @ 1:00 pm ET\nInvoicing and revenue recognition work together to provide financial reports of deferred revenue and WIP revenue. A number of scenarios are possible when determining how best to track and report on these key financial terms. \nIn this webinar\, you will learn more about managing revenue within NetSuite OpenAir including: \n\nReporting of WIP/Deferred approaches for handling prepays\nRevenue containers\n\nFollowing the presentation\, we will open the lines for a 15-minute live Q&A discussion. \nREGISTER NOW
URL:https://topstepllc.com/event/deferred-wip-revenue-management-netsuite-openair/
LOCATION:Online
CATEGORIES:OpenAir Webinar
END:VEVENT
BEGIN:VEVENT
DTSTART;TZID=America/New_York:20201210T130000
DTEND;TZID=America/New_York:20201210T134500
DTSTAMP:20260424T040859
CREATED:20200629T180035Z
LAST-MODIFIED:20210329T195251Z
UID:22691-1607605200-1607607900@topstepllc.com
SUMMARY:Learn How to Expand the Boundaries of Your OpenAir Systems
DESCRIPTION:December 10\, 2020 @ 1:00 pm ET\nNetSuite OpenAir’s configurable platform provides the ability to extend functionality with java scripting options. Tune into this 30-minute presentation to learn what interesting and powerful solutions Top Step has provided to customers to enable even greater productivity and compliance with OpenAir scripts. \nFollowing the presentation\, we will open the lines for a 15-minute live Q&A discussion. \nREGISTER NOW
URL:https://topstepllc.com/event/learn-expand-boundaries-openair-systems/
LOCATION:Online
CATEGORIES:OpenAir Webinar
END:VEVENT
BEGIN:VEVENT
DTSTART;TZID=America/New_York:20201112T130000
DTEND;TZID=America/New_York:20201112T134500
DTSTAMP:20260424T040859
CREATED:20200629T175434Z
LAST-MODIFIED:20210330T135212Z
UID:22689-1605186000-1605188700@topstepllc.com
SUMMARY:Financial Management Reporting and Metrics in NetSuite OpenAir
DESCRIPTION:November 12\, 2020 @ 1:00 pm ET\nIn this webinar\, we will take a deeper look at typical reports and metrics to support Financial Management across your organization using NetSuite OpenAir. Topics we will cover include: \n\nBacklog and pipeline forecasting against plan\nBudget to actual project views\nIntercompany revenue\nDashboards for at a glance data views\n\nFollowing the presentation\, we will open the lines for a 15-minute live Q&A discussion. \nREGISTER NOW
URL:https://topstepllc.com/event/financial-management-reporting-metrics-netsuite-openair-2/
LOCATION:Online
CATEGORIES:OpenAir Webinar
END:VEVENT
BEGIN:VEVENT
DTSTART;TZID=America/New_York:20201008T130000
DTEND;TZID=America/New_York:20201008T134500
DTSTAMP:20260424T040859
CREATED:20200629T174231Z
LAST-MODIFIED:20210329T195921Z
UID:22687-1602162000-1602164700@topstepllc.com
SUMMARY:Tips For Integrating Your NetSuite OpenAir Using only API Connections
DESCRIPTION:October 8\, 2020 @ 1:00 pm ET\nIn this Integration focused webinar presentation\, learn tips and tricks for NetSuite OpenAir using Direct API Connection and Authorization including: \n\nData translations\nMaintenance tips\nError handling considerations\n\nFollowing the presentation\, we will open the lines for a 15-minute live Q&A discussion. \nREGISTER NOW
URL:https://topstepllc.com/event/tips-integrating-netsuite-openair-using-api-connections/
LOCATION:Online
CATEGORIES:OpenAir Webinar
END:VEVENT
BEGIN:VEVENT
DTSTART;TZID=America/New_York:20200910T130000
DTEND;TZID=America/New_York:20200910T134500
DTSTAMP:20260424T040859
CREATED:20200408T170941Z
LAST-MODIFIED:20210426T173432Z
UID:22423-1599742800-1599745500@topstepllc.com
SUMMARY:Subcontractor Management Techniques in OpenAir
DESCRIPTION:September 10\, 2020 @ 1:00 pm ET\nJoin us for our upcoming webinar. In this webinar\, we discuss how OpenAir can help you manage your subcontractors more efficiently. Topics we will cover: \n\nHow OpenAir can help you manage your contractors more efficiently\nHow to easily document contractor time\nCost tracking options and how to handle a mixture of costing approaches\nHow to perform reports on contractors in OpenAir\n\nFollowing the presentation\, we will open the lines for a 15-minute live Q&A discussion. \nREGISTER NOW
URL:https://topstepllc.com/event/subcontractor-management-techniques-openair-2/
LOCATION:Online
CATEGORIES:OpenAir Webinar
END:VEVENT
BEGIN:VEVENT
DTSTART;TZID=America/New_York:20200806T130000
DTEND;TZID=America/New_York:20200806T134500
DTSTAMP:20260424T040859
CREATED:20200408T162913Z
LAST-MODIFIED:20210426T171148Z
UID:22420-1596718800-1596721500@topstepllc.com
SUMMARY:Scheduling Techniques & Bench Management in OpenAir
DESCRIPTION:August 6\, 2020 @ 1:00 pm ET\nJoin us for our upcoming webinar. In this session\, you will learn how to better identify talent to fill necessary roles that are critical for executing your business strategy. Topics we will cover: \n\nHow to define critical roles and assign tasks in OpenAir\nHow to schedule resource effort more efficiently\nHow to achieve organizational objectives during times of slow growth\n\nFollowing the presentation\, we will open the lines for a 15-minute live Q&A discussion. \nREGISTER NOW
URL:https://topstepllc.com/event/cheduling-techniques-bench-management-openair/
LOCATION:Online
CATEGORIES:OpenAir Webinar
END:VEVENT
BEGIN:VEVENT
DTSTART;TZID=America/New_York:20200709T130000
DTEND;TZID=America/New_York:20200709T134500
DTSTAMP:20260424T040859
CREATED:20200408T161534Z
LAST-MODIFIED:20210426T161608Z
UID:22417-1594299600-1594302300@topstepllc.com
SUMMARY:OpenAir Techniques for Forecasting Utilization and Reporting
DESCRIPTION:July 9\, 2020 @ 1:00 pm ET\nIn this webinar\, we will share techniques for resource management in OpenAir that support utilization forecasting and reporting including: \n\nTips and tricks on adjusting utilization equations to match your company definition\nCapacity planning and forecasting resource needs\nBest-fit resource matches searching by key values\n\nFollowing the presentation\, we will open the lines for a 15-minute live Q&A discussion. \nREGISTER NOW
URL:https://topstepllc.com/event/openair-techniques-forecasting-utilization-reporting-2/
LOCATION:Online
CATEGORIES:OpenAir Webinar
END:VEVENT
BEGIN:VEVENT
DTSTART;TZID=America/New_York:20200611T130000
DTEND;TZID=America/New_York:20200611T134500
DTSTAMP:20260424T040859
CREATED:20200109T182559Z
LAST-MODIFIED:20210226T164306Z
UID:21959-1591880400-1591883100@topstepllc.com
SUMMARY:Managing Resource Capacity vs Demand in Your PS Organization with OpenAir
DESCRIPTION:June 11\, 2020 @ 1:00 pm ET\nJoin us for our upcoming webinar. In this webinar we will explore resource management techniques in OpenAir focused on managing capacity versus demand including: \n\nUsefulness of employee skills\, staff development\, and skill demand\nUsefulness of planning resource needs by skill or role\nTips to optimize talent management\, resource utilization\, financial operations\, and reporting\n\nFollowing the presentation\, we will open the lines for a 15-minute live Q&A discussion. \nREGISTER NOW
URL:https://topstepllc.com/event/managing-resource-capacity-vs-demand-ps-organization-openair/
LOCATION:Online
CATEGORIES:OpenAir Webinar
END:VEVENT
BEGIN:VEVENT
DTSTART;TZID=America/New_York:20200514T130000
DTEND;TZID=America/New_York:20200514T134500
DTSTAMP:20260424T040859
CREATED:20200109T181338Z
LAST-MODIFIED:20210330T131157Z
UID:21957-1589461200-1589463900@topstepllc.com
SUMMARY:Delivery Success with Project Management in OpenAir
DESCRIPTION:May 14\, 2020 @ 1:00 pm ET\nProjects are like a book – they have a beginning\, a middle\, and an end. How we move through those stages to accomplish goals and meet deadlines is the responsibility of the Project Manager. \nJoin us for our upcoming webinar. In this webinar\, we’ll talk about some project management techniques such as: \n\nPlan vs. actual hours and cost delivery\nPercent complete of work and budget\nOther common tools used by Project Managers to help them deliver successful projects including variations by project type\, size\, and complexity.\n\nFollowing the presentation\, we will open the lines for a 15-minute live Q&A discussion. \nREGISTER NOW
URL:https://topstepllc.com/event/delivery-success-project-management-openair/
LOCATION:Online
CATEGORIES:OpenAir Webinar
END:VEVENT
BEGIN:VEVENT
DTSTART;TZID=America/Chicago:20200421T110000
DTEND;TZID=America/Chicago:20200421T113000
DTSTAMP:20260424T040859
CREATED:20200408T143058Z
LAST-MODIFIED:20210226T163950Z
UID:22408-1587466800-1587468600@topstepllc.com
SUMMARY:Marrying Supply With Demand in an Unpredictable Environment Within Services Organizations
DESCRIPTION:April 21\, 2020 @ 11:00 am CT\nJoin us for a discussion about how Services organizations can navigate the uncertain economic environment by: \n\nOptimizing resource management\nAdjusting sales strategies\nMaximizing visibility into key business metrics with realtime reporting\n\nFollowing the presentation\, we will open the lines for a 5-minute live Q&A discussion. \nREGISTER NOW
URL:https://topstepllc.com/event/marrying-supply-demand-unpredictable-environment-within-services-organizations/
LOCATION:Online
CATEGORIES:OpenAir Webinar
END:VEVENT
BEGIN:VEVENT
DTSTART;TZID=America/New_York:20200409T130000
DTEND;TZID=America/New_York:20200409T134500
DTSTAMP:20260424T040859
CREATED:20200109T174749Z
LAST-MODIFIED:20210226T171805Z
UID:21955-1586437200-1586439900@topstepllc.com
SUMMARY:Timesheets in OpenAir: Best Practices and Tips
DESCRIPTION:April 9\, 2020 @ 1:00 pm ET\nJoin us for our upcoming webinar. We will discuss timesheets in NetSuite OpenAir. Topics we will cover: \n\nAdvanced features such as time entries tab and timesheet customization\nWorkflow processes and time approvals\nAdjusting timesheets data view and lookup controls\n\nFollowing the presentation\, we will open the lines for a 15-minute live Q&A discussion. \nREGISTER NOW
URL:https://topstepllc.com/event/timesheets-openair-best-practices-tips/
LOCATION:Online
CATEGORIES:OpenAir Webinar
END:VEVENT
BEGIN:VEVENT
DTSTART;TZID=America/New_York:20200312T130000
DTEND;TZID=America/New_York:20200312T134500
DTSTAMP:20260424T040859
CREATED:20191125T232516Z
LAST-MODIFIED:20210226T164610Z
UID:21809-1584018000-1584020700@topstepllc.com
SUMMARY:OpenAir Integration Manager Tips and Techniques
DESCRIPTION:March 12\, 2020 @ 1:00 pm ET\nIn this webinar\, we will share tips and best practices for using OpenAir Integration Manager. We will discuss: \n\nOverview: What is Integration Manager\nCommon usage scenarios\nData import/export processes\nScheduling csv integrations\n\nFollowing the presentation\, we will open the lines for a 15-minute live Q&A discussion. \nREGISTER NOW
URL:https://topstepllc.com/event/openair-integration-manager-tips-and-techniques/
LOCATION:Online
CATEGORIES:OpenAir Webinar
END:VEVENT
BEGIN:VEVENT
DTSTART;TZID=America/New_York:20200213T130000
DTEND;TZID=America/New_York:20200213T134500
DTSTAMP:20260424T040859
CREATED:20191125T231626Z
LAST-MODIFIED:20210330T123608Z
UID:21806-1581598800-1581601500@topstepllc.com
SUMMARY:Best Practices for Integrating OpenAir and NetSuite
DESCRIPTION:February 13\, 2019 @ 1:00 pm ET\nIn this webinar\, we will share an overview of the integration between OpenAir and NetSuite. In this webinar you will learn: \n\nOverview: Connecting and Syncing OpenAir and NetSuite\nCommon data workflows\nData mapping tips and tricks\nEstablishing master system data ownership\nCommon errors\n\nFollowing the presentation\, we will open the lines for a 15-minute live Q&A discussion. \nREGISTER NOW
URL:https://topstepllc.com/event/best-practices-integrating-openair-netsuite/
LOCATION:Online
CATEGORIES:OpenAir Webinar
END:VEVENT
BEGIN:VEVENT
DTSTART;TZID=America/New_York:20200121T130000
DTEND;TZID=America/New_York:20200121T140000
DTSTAMP:20260424T040859
CREATED:20191216T205017Z
LAST-MODIFIED:20210226T165025Z
UID:21857-1579611600-1579615200@topstepllc.com
SUMMARY:OpenAir & Oracle Cloud Infrastructure: How am I impacted?
DESCRIPTION:January 21\, 2020 @ 1:00 pm ET\nJoin us to learn more how you may be impacted by the OpenAir & Oracle Cloud Infrastructure. \nWe will share with you: \n\nOverview of Oracle Cloud Infrastructure\nOpenAir touch points and how they are impacted\nActions required in your account\n\nFollowing the webinar we will hold a question and answer session. \n  \nREGISTER NOW
URL:https://topstepllc.com/event/openair-oracle-cloud-infrastructure-impacted/
LOCATION:Online
CATEGORIES:OpenAir Webinar
END:VEVENT
BEGIN:VEVENT
DTSTART;TZID=America/New_York:20200109T130000
DTEND;TZID=America/New_York:20200109T134500
DTSTAMP:20260424T040859
CREATED:20191125T230652Z
LAST-MODIFIED:20210226T165308Z
UID:21804-1578574800-1578577500@topstepllc.com
SUMMARY:The Power of OpenAir Scripting
DESCRIPTION:January 9\, 2019 @ 1:00 pm ET\nIn this webinar\, we will share with you the power of OpenAir scripting. You will learn more about: \n\nThe Purpose of Scripting\nHow Scripting can be incorporated to extend system validation logic and data processing\nNEW! Overview of outbound service calls to other applications\nTips for determining when to use Scripting\n\nFollowing the presentation\, we will open the lines for a 15-minute live Q&A discussion. \nREGISTER NOW
URL:https://topstepllc.com/event/power-openair-scripting/
LOCATION:Online
CATEGORIES:OpenAir Webinar
END:VEVENT
BEGIN:VEVENT
DTSTART;TZID=America/New_York:20191212T130000
DTEND;TZID=America/New_York:20191212T140000
DTSTAMP:20260424T040859
CREATED:20190816T045348Z
LAST-MODIFIED:20210226T171955Z
UID:21380-1576155600-1576159200@topstepllc.com
SUMMARY:OpenAir Advanced Topic Webinar:  Reporting Tips and Techniques
DESCRIPTION:December 12\, 2019 @ 1:00 pm ET\nIn this webinar you will learn some of our favorite reporting tips and tricks in OpenAir: \n\nHow to review your configuration to support reporting needs\nBest practices for report development\nFeatures to aid in your reporting challenges\nHandling report maintenance challenges\n\nFollowing the presentation\, we will open the lines for a 15-minute live Q&A discussion. \nREGISTER NOW
URL:https://topstepllc.com/event/openair-advanced-topic-webinar-reporting-tips-techniques/
LOCATION:Online
CATEGORIES:OpenAir Webinar
END:VEVENT
BEGIN:VEVENT
DTSTART;TZID=America/New_York:20191114T130000
DTEND;TZID=America/New_York:20191114T140000
DTSTAMP:20260424T040859
CREATED:20190816T043014Z
LAST-MODIFIED:20210329T195727Z
UID:21376-1573736400-1573740000@topstepllc.com
SUMMARY:OpenAir Advanced Topic Webinar:  Invoicing Tips and Best Practices
DESCRIPTION:November 14\, 2019 @ 1:00 pm ET\nIn this webinar we will discuss tips and best practices for Invoicing in OpenAir. You will learn more about: \n\nInvoice number increments\nExpense groups\nExpense insert layout\nPrefix\, billing codes\n\nFollowing the presentation\, we will open the lines for a 15-minute live Q&A discussion. \nREGISTER NOW
URL:https://topstepllc.com/event/openair-advanced-topic-webinar-invoicing-tips-best-practices/
LOCATION:Online
CATEGORIES:OpenAir Webinar
END:VEVENT
BEGIN:VEVENT
DTSTART;TZID=America/New_York:20191010T130000
DTEND;TZID=America/New_York:20191010T140000
DTSTAMP:20260424T040859
CREATED:20190816T040203Z
LAST-MODIFIED:20210226T170547Z
UID:21367-1570712400-1570716000@topstepllc.com
SUMMARY:OpenAir Advanced Topic Webinar: Custom Calculations Tips and Tricks
DESCRIPTION:October 10\, 2019 @ 1:00pm ET\nIn this webinar you will learn more about custom calculation tips and tricks in OpenAir including: \n\nCustom calculations usage and key features\nGetting to the right end result\nConsideration of report configuration with custom calculations\nTips and Tricks\n\nFollowing the presentation\, we will open the lines for a 15-minute live Q&A discussion. \nREGISTER NOW
URL:https://topstepllc.com/event/openair-advanced-topic-webinar-custom-calculations-tips-tricks/
LOCATION:Online
CATEGORIES:OpenAir Webinar
END:VEVENT
BEGIN:VEVENT
DTSTART;TZID=America/New_York:20190912T130000
DTEND;TZID=America/New_York:20190912T140000
DTSTAMP:20260424T040859
CREATED:20190528T124209Z
LAST-MODIFIED:20210226T170040Z
UID:21047-1568293200-1568296800@topstepllc.com
SUMMARY:Tips and Best Practices for Implementing Project Management Oversight in OpenAir
DESCRIPTION:September 12\, 2019 @ 1:00 pm ET\nOpenAir is your tool for keeping your project delivery in line with expectations and processes. In this webinar\, we will cover project management oversight features including: \n\nIn-system visuals and standard alerts\nUseful dashboard charts and reports for communication\nNews Feed collaboration solutions\n\nFollowing the presentation\, we will open the lines for a 15-minute live Q&A discussion. \nREGISTER NOW
URL:https://topstepllc.com/event/tips-best-practices-implementing-project-management-oversight-openair/
LOCATION:Online
CATEGORIES:OpenAir Webinar
END:VEVENT
BEGIN:VEVENT
DTSTART;TZID=America/New_York:20190808T130000
DTEND;TZID=America/New_York:20190808T140000
DTSTAMP:20260424T040859
CREATED:20190528T122504Z
LAST-MODIFIED:20210226T171636Z
UID:21041-1565269200-1565272800@topstepllc.com
SUMMARY:Managing Your Project Budget in OpenAir
DESCRIPTION:Join us for our upcoming webinar where we will discuss and demonstrate methods for budget management from simple to advanced in OpenAir. We will cover: \n\nTypes of budgets and notifications\nEstablishing a plan based on your project type\nBaselines and actual vs. plan reports\n\nFollowing the presentation\, we will open the lines for a 15-minute live Q&A discussion. \nREGISTER NOW
URL:https://topstepllc.com/event/managing-project-budget-openair/
LOCATION:Online
CATEGORIES:OpenAir Webinar
END:VEVENT
BEGIN:VEVENT
DTSTART;TZID=America/New_York:20190711T130000
DTEND;TZID=America/New_York:20190711T140000
DTSTAMP:20260424T040859
CREATED:20190528T115444Z
LAST-MODIFIED:20210226T165906Z
UID:21038-1562850000-1562853600@topstepllc.com
SUMMARY:Best Practices and Tips for Improving Timesheet Accuracy In OpenAir
DESCRIPTION:Join us for our upcoming webinar. We will discuss timesheet features and ways to ensure timesheet data is accurately captured. Topics we will cover: \n\nTimesheet setup and reports\nAuto-population options\nHandling timesheet corrections\n\nFollowing the presentation\, we will open the lines for a 15-minute live Q&A discussion. \nREGISTER NOW
URL:https://topstepllc.com/event/best-practices-tips-improving-timesheet-accuracy-openair/
LOCATION:Online
CATEGORIES:OpenAir Webinar
END:VEVENT
BEGIN:VEVENT
DTSTART;TZID=America/New_York:20190613T130000
DTEND;TZID=America/New_York:20190613T140000
DTSTAMP:20260424T040859
CREATED:20190327T015339Z
LAST-MODIFIED:20210226T171040Z
UID:20612-1560430800-1560434400@topstepllc.com
SUMMARY:Skill Profiles and Scheduling Techniques in OpenAir
DESCRIPTION:In this webinar\, you will learn more about using skill profiles and scheduling techniques in OpenAir including: \n\nCreating and managing skill profiles\nIncorporating skill profiles into your resource management process\nMeasuring and forecasting capacity vs. demand\nTracking plan vs. actual for project delivery success\n\nFollowing the presentation\, we will open the lines for a 15-minute live Q&A discussion. \nREGISTER NOW
URL:https://topstepllc.com/event/skill-profiles-scheduling-techniques-openair/
LOCATION:Online
CATEGORIES:OpenAir Webinar
END:VEVENT
BEGIN:VEVENT
DTSTART;TZID=America/New_York:20190509T130000
DTEND;TZID=America/New_York:20190509T140000
DTSTAMP:20260424T040859
CREATED:20190327T015127Z
LAST-MODIFIED:20210226T171244Z
UID:20610-1557406800-1557410400@topstepllc.com
SUMMARY:Implementing Subcontractor Management in OpenAir
DESCRIPTION:In this webinar we will discuss how OpenAir can help you manage your subcontractors more efficiently: \n\nHow OpenAir can help you manage your contractors more efficiently\nHow to easily document contractor time\nCost tracking options and how to handle a mixture of costing approaches\nHow to perform reports on contractors in OpenAir\n\nFollowing the presentation\, we will open the lines for a 15-minute live Q&A discussion. \nREGISTER NOW
URL:https://topstepllc.com/event/implementing-subcontractor-management-openair/
LOCATION:Online
CATEGORIES:OpenAir Webinar
END:VEVENT
BEGIN:VEVENT
DTSTART;TZID=America/New_York:20190411T130000
DTEND;TZID=America/New_York:20190411T140000
DTSTAMP:20260424T040859
CREATED:20190327T014847Z
LAST-MODIFIED:20210226T172139Z
UID:20605-1554987600-1554991200@topstepllc.com
SUMMARY:Implementing Resource Management Strategies in OpenAir
DESCRIPTION:In this webinar\, we will discuss strategies for successful team management in OpenAir including: \n\nPlanning resource needs\nForecasting skill types\nCommunicating schedules to staff\nMeasuring key resource management metrics\n\nFollowing the presentation\, we will open the lines for a 15-minute live Q&A discussion. \nREGISTER NOW
URL:https://topstepllc.com/event/implementing-resource-management-strategies-openair/
CATEGORIES:OpenAir Webinar
END:VEVENT
BEGIN:VEVENT
DTSTART;TZID=America/New_York:20190314T130000
DTEND;TZID=America/New_York:20190314T134500
DTSTAMP:20260424T040859
CREATED:20181212T202657Z
LAST-MODIFIED:20210226T173458Z
UID:20273-1552568400-1552571100@topstepllc.com
SUMMARY:5 OpenAir Rarely Used Features You Will Benefit From
DESCRIPTION:Join TOP Step Consulting in this live webinar where we will share five rarely used OpenAir features and how the feature can benefit you.  We would list them here but don’t want to spoil the reveal! \nIs there a feature you use and believe others would benefit from?  Following the presentation\, we will hold a 15-minute Q&A.  Bring one of your favorite features to share with the attendees.  This is sure to be an educational and fun discussion! \nREGISTER NOW
URL:https://topstepllc.com/event/5-openair-rarely-used-features-you-will-benefit-from/
CATEGORIES:OpenAir Webinar
END:VEVENT
BEGIN:VEVENT
DTSTART;TZID=America/New_York:20190214T130000
DTEND;TZID=America/New_York:20190214T134500
DTSTAMP:20260424T040859
CREATED:20181212T195121Z
LAST-MODIFIED:20210226T173834Z
UID:20266-1550149200-1550151900@topstepllc.com
SUMMARY:Connecting OpenAir Report Data To Your Other Core Systems with OpenAir Business Intelligence Connector
DESCRIPTION:The OpenAir Business Intelligence Connector gives you access to OpenAir from existing reporting\, business intelligence\, workflow\, and integration applications. The connector allows you to access OpenAir data without the need to write code. \nJoin us and learn the benefits of connecting OpenAir report data with other systems how this can be achieved. \nFollowing the presentation\, we will open the lines for a 15-minute live Q&A discussion. \nREGISTER NOW
URL:https://topstepllc.com/event/connecting-openair-report-data-core-systems-openair-business-intelligence-connector/
CATEGORIES:OpenAir Webinar
END:VEVENT
BEGIN:VEVENT
DTSTART;TZID=America/New_York:20190110T130000
DTEND;TZID=America/New_York:20190110T134500
DTSTAMP:20260424T040859
CREATED:20181211T215704Z
LAST-MODIFIED:20210226T174008Z
UID:20258-1547125200-1547127900@topstepllc.com
SUMMARY:Are You Ready For The New OpenAir UI?
DESCRIPTION:Join us and learn how to navigate and get the most out of the new OpenAir UI.  In the live webinar we will review: \n\nNavigation module bar\nButtons to enhance usability and streamline navigation\nList Views\n\nFollowing the presentation\, we will open the lines for a 15-minute live Q&A discussion. \nREGISTER NOW
URL:https://topstepllc.com/event/ready-new-openair-ui/
CATEGORIES:OpenAir Webinar
END:VEVENT
END:VCALENDAR