BEGIN:VCALENDAR
VERSION:2.0
PRODID:-//Top Step - ECPv6.15.17.1//NONSGML v1.0//EN
CALSCALE:GREGORIAN
METHOD:PUBLISH
X-ORIGINAL-URL:https://topstepllc.com
X-WR-CALDESC:Events for Top Step
REFRESH-INTERVAL;VALUE=DURATION:PT1H
X-Robots-Tag:noindex
X-PUBLISHED-TTL:PT1H
BEGIN:VTIMEZONE
TZID:America/Chicago
BEGIN:DAYLIGHT
TZOFFSETFROM:-0600
TZOFFSETTO:-0500
TZNAME:CDT
DTSTART:20150308T080000
END:DAYLIGHT
BEGIN:STANDARD
TZOFFSETFROM:-0500
TZOFFSETTO:-0600
TZNAME:CST
DTSTART:20151101T070000
END:STANDARD
BEGIN:DAYLIGHT
TZOFFSETFROM:-0600
TZOFFSETTO:-0500
TZNAME:CDT
DTSTART:20160313T080000
END:DAYLIGHT
BEGIN:STANDARD
TZOFFSETFROM:-0500
TZOFFSETTO:-0600
TZNAME:CST
DTSTART:20161106T070000
END:STANDARD
BEGIN:DAYLIGHT
TZOFFSETFROM:-0600
TZOFFSETTO:-0500
TZNAME:CDT
DTSTART:20170312T080000
END:DAYLIGHT
BEGIN:STANDARD
TZOFFSETFROM:-0500
TZOFFSETTO:-0600
TZNAME:CST
DTSTART:20171105T070000
END:STANDARD
END:VTIMEZONE
BEGIN:VTIMEZONE
TZID:America/New_York
BEGIN:DAYLIGHT
TZOFFSETFROM:-0500
TZOFFSETTO:-0400
TZNAME:EDT
DTSTART:20140309T070000
END:DAYLIGHT
BEGIN:STANDARD
TZOFFSETFROM:-0400
TZOFFSETTO:-0500
TZNAME:EST
DTSTART:20141102T060000
END:STANDARD
BEGIN:DAYLIGHT
TZOFFSETFROM:-0500
TZOFFSETTO:-0400
TZNAME:EDT
DTSTART:20150308T070000
END:DAYLIGHT
BEGIN:STANDARD
TZOFFSETFROM:-0400
TZOFFSETTO:-0500
TZNAME:EST
DTSTART:20151101T060000
END:STANDARD
BEGIN:DAYLIGHT
TZOFFSETFROM:-0500
TZOFFSETTO:-0400
TZNAME:EDT
DTSTART:20160313T070000
END:DAYLIGHT
BEGIN:STANDARD
TZOFFSETFROM:-0400
TZOFFSETTO:-0500
TZNAME:EST
DTSTART:20161106T060000
END:STANDARD
END:VTIMEZONE
BEGIN:VEVENT
DTSTART;TZID=America/Chicago:20160422T110000
DTEND;TZID=America/Chicago:20160422T140000
DTSTAMP:20260424T045917
CREATED:20151218T141103Z
LAST-MODIFIED:20210426T151517Z
UID:10793-1461322800-1461333600@topstepllc.com
SUMMARY:Dallas OpenAir User Group
DESCRIPTION:Date: Friday\, April 22\, 2016\nTime: 11am-2pm (CDT)\nFee: $0\nLunch will be served during our meeting. \nCome join us for an interactive meeting to learn more about usage of NetSuite OpenAir!\nThe purpose is to bring together NetSuite OpenAir users to exchange ideas about efficient system usage and share best practices with others. \nSession Topic: \n\nBest practices presentation\nBest Practices sharing and intereactive discussion with attendees\n\n \nLocation:\nRiveron Consulting\n2515 McKinney Avenue\nSuite 1200\nDallas\, TX  75201
URL:https://topstepllc.com/event/dallas-openair-user-group-2/
LOCATION:Riveron Consulting\, 2515 McKinney Avenue\, Suite 1200\, Dallas\, TX\,  75201 \, United States
CATEGORIES:OpenAir,OpenAir User Group
ATTACH;FMTTYPE=image/jpeg:https://topstepllc.com/wp-content/uploads/2015/12/dallas_opt.jpg
END:VEVENT
BEGIN:VEVENT
DTSTART;TZID=America/Chicago:20160311T110000
DTEND;TZID=America/Chicago:20160311T140000
DTSTAMP:20260424T045917
CREATED:20151218T135207Z
LAST-MODIFIED:20151218T135207Z
UID:9544-1457694000-1457704800@topstepllc.com
SUMMARY:Chicago OpenAir User Group
DESCRIPTION:Date: Friday\, March 11\, 2016\nTime: 11am-2pm (CST)\nFee: $0\nLunch will be served during our meeting. \nCome join us for an interactive meeting to learn more about usage of NetSuite OpenAir!\nThe purpose is to bring together NetSuite OpenAir users to exchange ideas about efficient system usage and share best practices with others. \nSession Topic: \n\nIntegration and Scripting\nBest Practices sharing and interactive discussion with attendees\n\n  \nLocation:\nVSA Partners\n600 W. Chicago Ave.\, Suite 250\nChicago\, IL 60654
URL:https://topstepllc.com/event/chicago-openair-user-group-2/
LOCATION:VSA Partners\, 600 W. Chicago Ave.\, Suite 250\, Chicago\, 60654\, United States
CATEGORIES:OpenAir,OpenAir User Group
ATTACH;FMTTYPE=image/jpeg:https://topstepllc.com/wp-content/uploads/2015/12/chicago_opt.jpg
END:VEVENT
BEGIN:VEVENT
DTSTART;TZID=America/Chicago:20160311T110000
DTEND;TZID=America/Chicago:20160311T140000
DTSTAMP:20260424T045917
CREATED:20151218T135207Z
LAST-MODIFIED:20210426T151046Z
UID:10792-1457694000-1457704800@topstepllc.com
SUMMARY:Chicago OpenAir User Group
DESCRIPTION:Date: Friday\, March 11\, 2016\nTime: 11am-2pm (CST)\nFee: $0\nLunch will be served during our meeting. \nCome join us for an interactive meeting to learn more about usage of NetSuite OpenAir!\nThe purpose is to bring together NetSuite OpenAir users to exchange ideas about efficient system usage and share best practices with others. \nSession Topic: \n\nIntegration and Scripting\nBest Practices sharing and interactive discussion with attendees\n\n  \nLocation:\nVSA Partners\n600 W. Chicago Ave.\, Suite 250\nChicago\, IL 60654
URL:https://topstepllc.com/event/chicago-openair-user-group-2-2/
LOCATION:VSA Partners\, 600 W. Chicago Ave.\, Suite 250\, Chicago\, 60654\, United States
CATEGORIES:OpenAir,OpenAir User Group
ATTACH;FMTTYPE=image/jpeg:https://topstepllc.com/wp-content/uploads/2015/12/chicago_opt.jpg
END:VEVENT
BEGIN:VEVENT
DTSTART;TZID=America/New_York:20151113T110000
DTEND;TZID=America/New_York:20151113T140000
DTSTAMP:20260424T045917
CREATED:20150724T142229Z
LAST-MODIFIED:20210226T175901Z
UID:10781-1447412400-1447423200@topstepllc.com
SUMMARY:Kansas City OpenAir User Group
DESCRIPTION:Date: Friday\, November 13\, 2015\nTime: 11am-2pm (CST)\nFee: $0\nLunch will be served during our meeting. \nCome join us for an interactive meeting to learn more about usage of NetSuite OpenAir! \nThese meetings are a great place to share best practices\, learn tips and tricks\, and network with fellow NetSuite OpenAir users. Space is limited for each session\, so sign up today and reserve your spot! \nSession Topic:\nBest Practices Presentation\nOpen Discussion and Best Practices sharing \nLocation:\niModules Software\n5101 College Blvd\nLeawood\, KS 66211 \nREGISTER NOW!
URL:https://topstepllc.com/event/kansas-city-openair-user-group-2/
LOCATION:iModules Software\, 5101 College Blvd\, Leawood\, KS\,  66211 \, United States
CATEGORIES:OpenAir,OpenAir User Group
END:VEVENT
BEGIN:VEVENT
DTSTART;TZID=America/New_York:20151106T110000
DTEND;TZID=America/New_York:20151106T140000
DTSTAMP:20260424T045917
CREATED:20150724T142138Z
LAST-MODIFIED:20150724T142138Z
UID:9200-1446807600-1446818400@topstepllc.com
SUMMARY:San Francisco OpenAir User Group
DESCRIPTION:Date: Friday\, November 6\, 2015\nTime: 11am-2pm (MST)\nFee: $0\nLunch will be served during our meeting. \nCome join us for an interactive meeting to learn more about usage of NetSuite OpenAir! \nThese meetings are a great place to share best practices\, learn tips and tricks\, and network with fellow NetSuite OpenAir users.  Space is limited for each session\, so sign up today and reserve your spot! \nSession Topic:\nBest Practices Presentation\nOpen Discussion and Best Practices sharing \nLocation:\nProphet\n1 Bush 7th Floor\nConference Room: Play Studio\nSan Francisco\, CA  94104\n\nREGISTER NOW!
URL:https://topstepllc.com/event/san-francisco-openair-user-group/
LOCATION:Prophet\, 1 Bush\, San Francisco\, CA\,  94104 \, United States
CATEGORIES:OpenAir,OpenAir User Group
END:VEVENT
BEGIN:VEVENT
DTSTART;TZID=America/New_York:20151106T110000
DTEND;TZID=America/New_York:20151106T140000
DTSTAMP:20260424T045917
CREATED:20150724T142138Z
LAST-MODIFIED:20210426T170336Z
UID:10780-1446807600-1446818400@topstepllc.com
SUMMARY:San Francisco OpenAir User Group
DESCRIPTION:Date: Friday\, November 6\, 2015\nTime: 11am-2pm (MST)\nFee: $0\nLunch will be served during our meeting. \nCome join us for an interactive meeting to learn more about usage of NetSuite OpenAir! \nThese meetings are a great place to share best practices\, learn tips and tricks\, and network with fellow NetSuite OpenAir users. Space is limited for each session\, so sign up today and reserve your spot! \nSession Topic:\nBest Practices Presentation\nOpen Discussion and Best Practices sharing \nLocation:\nProphet\n1 Bush 7th Floor\nConference Room: Play Studio\nSan Francisco\, CA 94104 \nREGISTER NOW!
URL:https://topstepllc.com/event/san-francisco-openair-user-group-3/
LOCATION:Prophet\, 1 Bush\, San Francisco\, CA\,  94104 \, United States
CATEGORIES:OpenAir,OpenAir User Group
END:VEVENT
BEGIN:VEVENT
DTSTART;TZID=America/New_York:20151016T110000
DTEND;TZID=America/New_York:20151016T140000
DTSTAMP:20260424T045917
CREATED:20150724T141640Z
LAST-MODIFIED:20150724T141640Z
UID:9197-1444993200-1445004000@topstepllc.com
SUMMARY:Atlanta OpenAir User Group
DESCRIPTION:Date: Friday\, October 16\, 2015\nTime: 11am-2pm (EDT)\nFee: $0\nLunch will be served during our meeting. \nCome join us for an interactive meeting to learn more about usage of NetSuite OpenAir! \nThese meetings are a great place to share best practices\, learn tips and tricks\, and network with fellow NetSuite OpenAir users.  Space is limited for each session\, so sign up today and reserve your spot! \nSession Topic:\nBest Practices Presentation\nOpen Discussion and Best Practices sharing \nLocation:\nVML\n191 Peachtree St. NE\nSuite 4025\nAtlanta\, GA 30303\n\nREGISTER NOW!
URL:https://topstepllc.com/event/atlanta-openair-user-group/
LOCATION:VML\, 191 Peachtree St. NE\, Suite 4025\, Atlanta\, GA\,  30303 \, United States
CATEGORIES:OpenAir User Group
END:VEVENT
BEGIN:VEVENT
DTSTART;TZID=America/New_York:20151016T110000
DTEND;TZID=America/New_York:20151016T140000
DTSTAMP:20260424T045917
CREATED:20150724T141640Z
LAST-MODIFIED:20150724T141640Z
UID:10778-1444993200-1445004000@topstepllc.com
SUMMARY:Atlanta OpenAir User Group
DESCRIPTION:Date: Friday\, October 16\, 2015\nTime: 11am-2pm (EDT)\nFee: $0\nLunch will be served during our meeting. \nCome join us for an interactive meeting to learn more about usage of NetSuite OpenAir! \nThese meetings are a great place to share best practices\, learn tips and tricks\, and network with fellow NetSuite OpenAir users.  Space is limited for each session\, so sign up today and reserve your spot! \nSession Topic:\nBest Practices Presentation\nOpen Discussion and Best Practices sharing \nLocation:\nVML\n191 Peachtree St. NE\nSuite 4025\nAtlanta\, GA 30303\n\nREGISTER NOW!
URL:https://topstepllc.com/event/atlanta-openair-user-group-3/
LOCATION:VML\, 191 Peachtree St. NE\, Suite 4025\, Atlanta\, GA\,  30303 \, United States
CATEGORIES:OpenAir User Group
END:VEVENT
BEGIN:VEVENT
DTSTART;TZID=America/New_York:20151009T110000
DTEND;TZID=America/New_York:20151009T140000
DTSTAMP:20260424T045917
CREATED:20150724T142012Z
LAST-MODIFIED:20150724T142012Z
UID:9198-1444388400-1444399200@topstepllc.com
SUMMARY:Chicago OpenAir User Group
DESCRIPTION:Date: Friday\, October 9\, 2015\nTime: 11am-2pm (CDT)\nFee: $0\nLunch will be served during our meeting. \nCome join us for an interactive meeting to learn more about usage of NetSuite OpenAir! \nThese meetings are a great place to share best practices\, learn tips and tricks\, and network with fellow NetSuite OpenAir users.  Space is limited for each session\, so sign up today and reserve your spot! \nSession Topic:\nBest Practices Presentation\nOpen Discussion and Best Practices sharing \nLocation:\nRightpoint\n29 North Wacker Drive\n4th Floor\nChicago\, Illinois 60606\n\nREGISTER NOW!
URL:https://topstepllc.com/event/chicago-openair-user-group/
LOCATION:Rightpoint\, 29 North Wacker Drive\, 4th Floor\, Chicago\, IL\,  60606 \, United States
CATEGORIES:OpenAir,OpenAir User Group
END:VEVENT
BEGIN:VEVENT
DTSTART;TZID=America/New_York:20151009T110000
DTEND;TZID=America/New_York:20151009T140000
DTSTAMP:20260424T045917
CREATED:20150724T142012Z
LAST-MODIFIED:20150724T142012Z
UID:10779-1444388400-1444399200@topstepllc.com
SUMMARY:Chicago OpenAir User Group
DESCRIPTION:Date: Friday\, October 9\, 2015\nTime: 11am-2pm (CDT)\nFee: $0\nLunch will be served during our meeting. \nCome join us for an interactive meeting to learn more about usage of NetSuite OpenAir! \nThese meetings are a great place to share best practices\, learn tips and tricks\, and network with fellow NetSuite OpenAir users.  Space is limited for each session\, so sign up today and reserve your spot! \nSession Topic:\nBest Practices Presentation\nOpen Discussion and Best Practices sharing \nLocation:\nRightpoint\n29 North Wacker Drive\n4th Floor\nChicago\, Illinois 60606\n\nREGISTER NOW!
URL:https://topstepllc.com/event/chicago-openair-user-group-3/
LOCATION:Rightpoint\, 29 North Wacker Drive\, 4th Floor\, Chicago\, IL\,  60606 \, United States
CATEGORIES:OpenAir,OpenAir User Group
END:VEVENT
BEGIN:VEVENT
DTSTART;TZID=America/New_York:20150918T110000
DTEND;TZID=America/New_York:20150918T140000
DTSTAMP:20260424T045917
CREATED:20150724T141554Z
LAST-MODIFIED:20150724T141554Z
UID:9196-1442574000-1442584800@topstepllc.com
SUMMARY:DC OpenAir User Group
DESCRIPTION:Date: Monday\, September 18\, 2015\nTime: 11am-2pm (EDT)\nFee: $0\nLunch will be served during our meeting. \nCome join us for an interactive meeting to learn more about usage of NetSuite OpenAir! \nThese meetings are a great place to share best practices\, learn tips and tricks\, and network with fellow NetSuite OpenAir users.  Space is limited for each session\, so sign up today and reserve your spot! \nSession Topic:\nBest Practices Presentation\nOpen Discussion and Best Practices sharing \nLocation:\nSiteworx\n11480 Commerce Park Drive\n5th Floor\nReston\, VA 20191\n\nREGISTER NOW!
URL:https://topstepllc.com/event/dc-openair-user-group/
LOCATION:Siteworx\, 11480 Commerce Park Drive\, 5th Floor\, Reston\, VA\,  20191 \, United States
CATEGORIES:OpenAir User Group
END:VEVENT
BEGIN:VEVENT
DTSTART;TZID=America/New_York:20150918T110000
DTEND;TZID=America/New_York:20150918T140000
DTSTAMP:20260424T045917
CREATED:20150724T141554Z
LAST-MODIFIED:20150724T141554Z
UID:10773-1442574000-1442584800@topstepllc.com
SUMMARY:DC OpenAir User Group
DESCRIPTION:Date: Monday\, September 18\, 2015\nTime: 11am-2pm (EDT)\nFee: $0\nLunch will be served during our meeting. \nCome join us for an interactive meeting to learn more about usage of NetSuite OpenAir! \nThese meetings are a great place to share best practices\, learn tips and tricks\, and network with fellow NetSuite OpenAir users.  Space is limited for each session\, so sign up today and reserve your spot! \nSession Topic:\nBest Practices Presentation\nOpen Discussion and Best Practices sharing \nLocation:\nSiteworx\n11480 Commerce Park Drive\n5th Floor\nReston\, VA 20191\n\nREGISTER NOW!
URL:https://topstepllc.com/event/dc-openair-user-group-2/
LOCATION:Siteworx\, 11480 Commerce Park Drive\, 5th Floor\, Reston\, VA\,  20191 \, United States
CATEGORIES:OpenAir User Group
END:VEVENT
BEGIN:VEVENT
DTSTART;TZID=America/New_York:20150814T110000
DTEND;TZID=America/New_York:20150814T140000
DTSTAMP:20260424T045917
CREATED:20150724T141235Z
LAST-MODIFIED:20150724T141235Z
UID:9193-1439550000-1439560800@topstepllc.com
SUMMARY:Austin OpenAir User Group
DESCRIPTION:Date: Friday\, August 14\, 2015\nTime: 11am-2pm (CDT)\nFee: $0\nLunch will be served during our meeting. \nCome join us for an interactive meeting to learn more about usage of NetSuite OpenAir! \nThese meetings are a great place to share best practices\, learn tips and tricks\, and network with fellow NetSuite OpenAir users.  Space is limited for each session\, so sign up today and reserve your spot! \nSession Topic:\nBest Practices Presentation\nOpen Discussion and Best Practices sharing \nLocation:\nSmartDog Services\, LLC\n7004 Bee Cave Road\nBuilding 3\, Suite 100\nAustin\, TX 78746-5004\n\nREGISTER NOW!
URL:https://topstepllc.com/event/austin-openair-user-group/
LOCATION:TX
CATEGORIES:OpenAir User Group
END:VEVENT
BEGIN:VEVENT
DTSTART;TZID=America/New_York:20150814T110000
DTEND;TZID=America/New_York:20150814T140000
DTSTAMP:20260424T045917
CREATED:20150724T141235Z
LAST-MODIFIED:20150724T141235Z
UID:10772-1439550000-1439560800@topstepllc.com
SUMMARY:Austin OpenAir User Group
DESCRIPTION:Date: Friday\, August 14\, 2015\nTime: 11am-2pm (CDT)\nFee: $0\nLunch will be served during our meeting. \nCome join us for an interactive meeting to learn more about usage of NetSuite OpenAir! \nThese meetings are a great place to share best practices\, learn tips and tricks\, and network with fellow NetSuite OpenAir users.  Space is limited for each session\, so sign up today and reserve your spot! \nSession Topic:\nBest Practices Presentation\nOpen Discussion and Best Practices sharing \nLocation:\nSmartDog Services\, LLC\n7004 Bee Cave Road\nBuilding 3\, Suite 100\nAustin\, TX 78746-5004\n\nREGISTER NOW!
URL:https://topstepllc.com/event/austin-openair-user-group-3/
LOCATION:TX
CATEGORIES:OpenAir User Group
END:VEVENT
BEGIN:VEVENT
DTSTART;VALUE=DATE:20150619
DTEND;VALUE=DATE:20150620
DTSTAMP:20260424T045917
CREATED:20150429T165430Z
LAST-MODIFIED:20150429T165430Z
UID:9030-1434672000-1434758399@topstepllc.com
SUMMARY:Portland OpenAir User Group
DESCRIPTION:Time:  11:00am – 2:00pm PDT \nLunch will be served during our meeting.  \nCome join us for an interactive meeting to learn more about usage of NetSuite OpenAir!  The purpose is to bring together NetSuite OpenAir users to exchange ideas about efficient system usage and share best practices with others.\n\nThe Session:   \n\nBest practices presentation\nBest Practices sharing\nInteractive discussion with attendees\n\n \nLocation:\nTBD \n \nREGISTER NOW!
URL:https://topstepllc.com/event/portland-openair-user-group/
LOCATION:TX
CATEGORIES:OpenAir User Group
END:VEVENT
BEGIN:VEVENT
DTSTART;VALUE=DATE:20150619
DTEND;VALUE=DATE:20150620
DTSTAMP:20260424T045917
CREATED:20150429T165430Z
LAST-MODIFIED:20150429T165430Z
UID:10766-1434672000-1434758399@topstepllc.com
SUMMARY:Portland OpenAir User Group
DESCRIPTION:Time:  11:00am – 2:00pm PDT \nLunch will be served during our meeting.  \nCome join us for an interactive meeting to learn more about usage of NetSuite OpenAir!  The purpose is to bring together NetSuite OpenAir users to exchange ideas about efficient system usage and share best practices with others.\n\nThe Session:   \n\nBest practices presentation\nBest Practices sharing\nInteractive discussion with attendees\n\n \nLocation:\nTBD \n \nREGISTER NOW!
URL:https://topstepllc.com/event/portland-openair-user-group-3/
LOCATION:TX
CATEGORIES:OpenAir User Group
END:VEVENT
BEGIN:VEVENT
DTSTART;VALUE=DATE:20150612
DTEND;VALUE=DATE:20150613
DTSTAMP:20260424T045917
CREATED:20150429T165430Z
LAST-MODIFIED:20150429T165430Z
UID:9028-1434067200-1434153599@topstepllc.com
SUMMARY:Toronto OpenAir User Group
DESCRIPTION:Time:  11:00am – 2:00pm EDT \nLunch will be served during our meeting.  \nCome join us for an interactive meeting to learn more about usage of NetSuite OpenAir!  The purpose is to bring together NetSuite OpenAir users to exchange ideas about efficient system usage and share best practices with others.\n\nThe Session:   \n\nBest practices presentation\nBest Practices sharing\nInteractive discussion with attendees\n\n \nLocation:\nTBD
URL:https://topstepllc.com/event/toronto-openair-user-group/
LOCATION:TX
CATEGORIES:OpenAir User Group
END:VEVENT
BEGIN:VEVENT
DTSTART;VALUE=DATE:20150612
DTEND;VALUE=DATE:20150613
DTSTAMP:20260424T045917
CREATED:20150429T165430Z
LAST-MODIFIED:20150429T165430Z
UID:10764-1434067200-1434153599@topstepllc.com
SUMMARY:Toronto OpenAir User Group
DESCRIPTION:Time:  11:00am – 2:00pm EDT \nLunch will be served during our meeting.  \nCome join us for an interactive meeting to learn more about usage of NetSuite OpenAir!  The purpose is to bring together NetSuite OpenAir users to exchange ideas about efficient system usage and share best practices with others.\n\nThe Session:   \n\nBest practices presentation\nBest Practices sharing\nInteractive discussion with attendees\n\n \nLocation:\nTBD
URL:https://topstepllc.com/event/toronto-openair-user-group-2/
LOCATION:TX
CATEGORIES:OpenAir User Group
END:VEVENT
END:VCALENDAR