BEGIN:VCALENDAR
VERSION:2.0
PRODID:-//Top Step - ECPv6.15.17.1//NONSGML v1.0//EN
CALSCALE:GREGORIAN
METHOD:PUBLISH
X-ORIGINAL-URL:https://topstepllc.com
X-WR-CALDESC:Events for Top Step
REFRESH-INTERVAL;VALUE=DURATION:PT1H
X-Robots-Tag:noindex
X-PUBLISHED-TTL:PT1H
BEGIN:VTIMEZONE
TZID:America/New_York
BEGIN:DAYLIGHT
TZOFFSETFROM:-0500
TZOFFSETTO:-0400
TZNAME:EDT
DTSTART:20150308T070000
END:DAYLIGHT
BEGIN:STANDARD
TZOFFSETFROM:-0400
TZOFFSETTO:-0500
TZNAME:EST
DTSTART:20151101T060000
END:STANDARD
BEGIN:DAYLIGHT
TZOFFSETFROM:-0500
TZOFFSETTO:-0400
TZNAME:EDT
DTSTART:20160313T070000
END:DAYLIGHT
BEGIN:STANDARD
TZOFFSETFROM:-0400
TZOFFSETTO:-0500
TZNAME:EST
DTSTART:20161106T060000
END:STANDARD
BEGIN:DAYLIGHT
TZOFFSETFROM:-0500
TZOFFSETTO:-0400
TZNAME:EDT
DTSTART:20170312T070000
END:DAYLIGHT
BEGIN:STANDARD
TZOFFSETFROM:-0400
TZOFFSETTO:-0500
TZNAME:EST
DTSTART:20171105T060000
END:STANDARD
END:VTIMEZONE
BEGIN:VEVENT
DTSTART;TZID=America/New_York:20160428T130000
DTEND;TZID=America/New_York:20160428T133000
DTSTAMP:20260424T080018
CREATED:20160301T002115Z
LAST-MODIFIED:20210426T201115Z
UID:10815-1461848400-1461850200@topstepllc.com
SUMMARY:Webinar: Scheduling Techniques & Bench Management in FinancialForce
DESCRIPTION:Recorded: April 28\, 2016 \nIn this session you will learn: \n\nHow to define critical roles and assign tasks in FinancialForce\nHow to better identify talent to fill necessary roles that are critical for executing your business strategy\nHow to schedule resource effort more efficiently\nHow to achieve organizational objectives during times of slow growth\n\n  \nOur live webinars are now 30 minutes to more easily fit into your busy schedule. After the 30 minute presentation\, we will stay online for an additional 15 minutes for questions and open discussion. When attending the webinar be aware we will record the presentation portion of the webinar\, but do not record the Q&A portion.
URL:https://topstepllc.com/event/webinar-scheduling-techniques-bench-management-financialforce-2/
CATEGORIES:FinancialForce,FinancialForce Webinar
END:VEVENT
BEGIN:VEVENT
DTSTART;TZID=America/New_York:20160428T130000
DTEND;TZID=America/New_York:20160428T133000
DTSTAMP:20260424T080018
CREATED:20160301T002115Z
LAST-MODIFIED:20160301T002115Z
UID:9747-1461848400-1461850200@topstepllc.com
SUMMARY:Webinar: Scheduling Techniques & Bench Management in FinancialForce
DESCRIPTION:Recorded: April 28\, 2016\n\nIn this session you will learn: \n\nHow to define critical roles and assign tasks in FinancialForce\nHow to better identify talent to fill necessary roles that are critical for executing your business strategy\nHow to schedule resource effort more efficiently\nHow to achieve organizational objectives during times of slow growth\n\n  \nOur live webinars are now 30 minutes to more easily fit into your busy schedule.  After the 30 minute presentation\, we will stay online for an additional 15 minutes for questions and open discussion. When attending the webinar be aware we will record the presentation portion of the webinar\, but do not record the Q&A portion.
URL:https://topstepllc.com/event/webinar-scheduling-techniques-bench-management-financialforce/
CATEGORIES:FinancialForce,FinancialForce Webinar
END:VEVENT
BEGIN:VEVENT
DTSTART;TZID=America/New_York:20160414T130000
DTEND;TZID=America/New_York:20160414T133000
DTSTAMP:20260424T080018
CREATED:20160301T001522Z
LAST-MODIFIED:20210426T195459Z
UID:10813-1460638800-1460640600@topstepllc.com
SUMMARY:Webinar: Find My PS iStaff
DESCRIPTION:Date: Thursday\, April 15\, 2016\nTime: 1:00 – 1:30pm EDT \nIn this session you will learn: \n\nHow to manage your onsite and remote team more efficiently\nHow your remote team works differently than you\nHow to best leverage tools and mobile features\nHow best to engage and communicate with employees\n\nOur live webinars are now 30 minutes to more easily fit into your busy schedule. After the 30 minute presentation\, we will stay online for an additional 15 minutes for questions and open discussion. When attending the webinar be aware we will record the presentation portion of the webinar\, but do not record the Q&A portion.
URL:https://topstepllc.com/event/webinar-find-my-ps-istaff-2/
CATEGORIES:FinancialForce,FinancialForce Webinar,OpenAir,OpenAir Webinar
END:VEVENT
BEGIN:VEVENT
DTSTART;TZID=America/New_York:20160414T130000
DTEND;TZID=America/New_York:20160414T133000
DTSTAMP:20260424T080018
CREATED:20160301T001522Z
LAST-MODIFIED:20160301T001522Z
UID:9745-1460638800-1460640600@topstepllc.com
SUMMARY:Webinar: Find My PS iStaff
DESCRIPTION:Date: Thursday\, April 15\, 2016\nTime: 1:00 – 1:30pm EDT\n\nIn this session you will learn: \n\nHow to manage your onsite and remote team more efficiently\nHow your remote team works differently than you\nHow to best leverage tools and mobile features\nHow best to engage and communicate with employees\n\nOur live webinars are now 30 minutes to more easily fit into your busy schedule.  After the 30 minute presentation\, we will stay online for an additional 15 minutes for questions and open discussion. When attending the webinar be aware we will record the presentation portion of the webinar\, but do not record the Q&A portion.
URL:https://topstepllc.com/event/webinar-find-my-ps-istaff/
CATEGORIES:FinancialForce,FinancialForce Webinar,OpenAir,OpenAir Webinar
END:VEVENT
BEGIN:VEVENT
DTSTART;TZID=America/New_York:20160310T130000
DTEND;TZID=America/New_York:20160310T133000
DTSTAMP:20260424T080018
CREATED:20160105T175924Z
LAST-MODIFIED:20210426T195648Z
UID:10806-1457614800-1457616600@topstepllc.com
SUMMARY:Webinar: Forecasting and Managing Growth in a Professional Services Organization
DESCRIPTION:Date: Thursday\, March 10\, 2016\nTime: 1:00pm – 1:30pm (EST)\nFee: $0 \nIn this webinar we will discuss the pros and cons of forecasting approaches for managing growth in PS. \nOur live webinars are now 30 minutes to more easily fit into your busy schedule. After the 30 minute presentation\, we will stay online for an additional 15 minutes for questions and open discussion. When attending the webinar be aware we will record the presentation portion of the webinar\, but do not record the Q&A portion. \nREGISTER NOW!
URL:https://topstepllc.com/event/webinar-forecasting-and-managing-growth-in-a-professional-services-organization-2/
CATEGORIES:FinancialForce,FinancialForce Webinar,OpenAir,OpenAir Webinar
END:VEVENT
BEGIN:VEVENT
DTSTART;TZID=America/New_York:20160310T130000
DTEND;TZID=America/New_York:20160310T133000
DTSTAMP:20260424T080018
CREATED:20160105T175924Z
LAST-MODIFIED:20160105T175924Z
UID:9587-1457614800-1457616600@topstepllc.com
SUMMARY:Webinar: Forecasting and Managing Growth in a Professional Services Organization
DESCRIPTION:Date: Thursday\, March 10\, 2016\nTime: 1:00pm – 1:30pm (EST)\nFee: $0 \nIn this webinar we will discuss the pros and cons of forecasting approaches for managing growth in PS. \nOur live webinars are now 30 minutes to more easily fit into your busy schedule.  After the 30 minute presentation\, we will stay online for an additional 15 minutes for questions and open discussion. When attending the webinar be aware we will record the presentation portion of the webinar\, but do not record the Q&A portion. \nREGISTER NOW!
URL:https://topstepllc.com/event/webinar-forecasting-and-managing-growth-in-a-professional-services-organization/
CATEGORIES:FinancialForce,FinancialForce Webinar,OpenAir,OpenAir Webinar
END:VEVENT
BEGIN:VEVENT
DTSTART;TZID=America/New_York:20160211T130000
DTEND;TZID=America/New_York:20160211T133000
DTSTAMP:20260424T080018
CREATED:20160105T174622Z
LAST-MODIFIED:20210428T131806Z
UID:10803-1455195600-1455197400@topstepllc.com
SUMMARY:Webinar: Under the Hood: PS Operations At A Glance Today
DESCRIPTION:Date: Thursday\, February 11\, 2016\nTime: 1:00pm – 1:30pm (EST)\nFee: $0 \nWe often get caught up in in the day to day operational details of our services organizations\, and it is difficult to see the forest for the trees. Join us in this webinar where we will discuss your PS operations at a glance and how to set up your PS metrics and reporting. \n\nWhat metrics should be captured to climb toward your goals and objectives.\nTypes of metrics per process area: Project Management\, Resource Management\, Opportunity Management\, and Financial Management\n\n  \nOur live webinars are now 30 minutes to more easily fit into your busy schedule. After the 30 minute presentation\, we will stay online for an additional 15 minutes for questions and open discussion. When attending the webinar be aware we will record the presentation portion of the webinar\, but do not record the Q&A portion. \nREGISTER NOW!
URL:https://topstepllc.com/event/webinar-under-the-hood-ps-operations-at-a-glance-today-2/
CATEGORIES:FinancialForce,FinancialForce Webinar,OpenAir,OpenAir Webinar
END:VEVENT
BEGIN:VEVENT
DTSTART;TZID=America/New_York:20160211T130000
DTEND;TZID=America/New_York:20160211T133000
DTSTAMP:20260424T080018
CREATED:20160105T174622Z
LAST-MODIFIED:20160105T174622Z
UID:9584-1455195600-1455197400@topstepllc.com
SUMMARY:Webinar: Under the Hood: PS Operations At A Glance Today
DESCRIPTION:Date: Thursday\, February 11\, 2016\nTime: 1:00pm – 1:30pm (EST)\nFee: $0 \nWe often get caught up in in the day to day operational details of our services organizations\, and it is difficult to see the forest for the trees.  Join us in this webinar where we will discuss your PS operations at a glance and how to set up your PS metrics and reporting. \n\nWhat metrics should be captured to climb toward your goals and objectives.\nTypes of metrics per process area: Project Management\, Resource Management\, Opportunity Management\, and Financial Management\n\n \nOur live webinars are now 30 minutes to more easily fit into your busy schedule.  After the 30 minute presentation\, we will stay online for an additional 15 minutes for questions and open discussion. When attending the webinar be aware we will record the presentation portion of the webinar\, but do not record the Q&A portion. \nREGISTER NOW!
URL:https://topstepllc.com/event/webinar-under-the-hood-ps-operations-at-a-glance-today/
CATEGORIES:FinancialForce,FinancialForce Webinar,OpenAir,OpenAir Webinar
END:VEVENT
BEGIN:VEVENT
DTSTART;TZID=America/New_York:20160113T130000
DTEND;TZID=America/New_York:20160113T133000
DTSTAMP:20260424T080018
CREATED:20160105T170913Z
LAST-MODIFIED:20160105T170913Z
UID:9579-1452690000-1452691800@topstepllc.com
SUMMARY:Webinar:  Why PSA?
DESCRIPTION:Date: Wednesday\, January 13\, 2016\nTime: 1:00pm – 1:30pm (EST)\nFee: $0 \nYou want your services organization to be the best it can.  During this webinar we will discuss the role professional services automation (PSA) plays in becoming the best of the best as a services organization.   \nOur live webinars are now 30 minutes to more easily fit into your busy schedule.  After the 30 minute presentation\, we will stay online for an additional 15 minutes for questions and open discussion. When attending the webinar be aware we will record the presentation portion of the webinar\, but do not record the Q&A portion. \nREGISTER NOW!
URL:https://topstepllc.com/event/webinar-why-psa/
CATEGORIES:FinancialForce,FinancialForce Webinar,OpenAir,OpenAir Webinar
END:VEVENT
BEGIN:VEVENT
DTSTART;TZID=America/New_York:20160113T130000
DTEND;TZID=America/New_York:20160113T133000
DTSTAMP:20260424T080018
CREATED:20160105T170913Z
LAST-MODIFIED:20210428T131829Z
UID:10800-1452690000-1452691800@topstepllc.com
SUMMARY:Webinar:  Why PSA?
DESCRIPTION:Date: Wednesday\, January 13\, 2016\nTime: 1:00pm – 1:30pm (EST)\nFee: $0 \nYou want your services organization to be the best it can. During this webinar we will discuss the role professional services automation (PSA) plays in becoming the best of the best as a services organization. \nOur live webinars are now 30 minutes to more easily fit into your busy schedule. After the 30 minute presentation\, we will stay online for an additional 15 minutes for questions and open discussion. When attending the webinar be aware we will record the presentation portion of the webinar\, but do not record the Q&A portion. \nREGISTER NOW!
URL:https://topstepllc.com/event/webinar-why-psa-2/
CATEGORIES:FinancialForce,FinancialForce Webinar,OpenAir,OpenAir Webinar
END:VEVENT
END:VCALENDAR